BEGIN:VCALENDAR
VERSION:2.0
PRODID:-//Verena Osgyan, MdL - ECPv6.9.0//NONSGML v1.0//EN
CALSCALE:GREGORIAN
METHOD:PUBLISH
X-ORIGINAL-URL:https://blog.osgyan.de
X-WR-CALDESC:Veranstaltungen für Verena Osgyan, MdL
REFRESH-INTERVAL;VALUE=DURATION:PT1H
X-Robots-Tag:noindex
X-PUBLISHED-TTL:PT1H
BEGIN:VTIMEZONE
TZID:Europe/Berlin
BEGIN:DAYLIGHT
TZOFFSETFROM:+0100
TZOFFSETTO:+0200
TZNAME:CEST
DTSTART:20160327T010000
END:DAYLIGHT
BEGIN:STANDARD
TZOFFSETFROM:+0200
TZOFFSETTO:+0100
TZNAME:CET
DTSTART:20161030T010000
END:STANDARD
BEGIN:DAYLIGHT
TZOFFSETFROM:+0100
TZOFFSETTO:+0200
TZNAME:CEST
DTSTART:20170326T010000
END:DAYLIGHT
BEGIN:STANDARD
TZOFFSETFROM:+0200
TZOFFSETTO:+0100
TZNAME:CET
DTSTART:20171029T010000
END:STANDARD
BEGIN:DAYLIGHT
TZOFFSETFROM:+0100
TZOFFSETTO:+0200
TZNAME:CEST
DTSTART:20180325T010000
END:DAYLIGHT
BEGIN:STANDARD
TZOFFSETFROM:+0200
TZOFFSETTO:+0100
TZNAME:CET
DTSTART:20181028T010000
END:STANDARD
END:VTIMEZONE
BEGIN:VEVENT
DTSTART;TZID=Europe/Berlin:20180606T200000
DTEND;TZID=Europe/Berlin:20180606T220000
DTSTAMP:20260422T125343
CREATED:20180410T083643Z
LAST-MODIFIED:20180410T083643Z
UID:10020093-1528315200-1528322400@blog.osgyan.de
SUMMARY:Podiumsdiskussion "In Media We Trust"
DESCRIPTION:
URL:https://blog.osgyan.de/event/podiumsdiskussion-in-media-we-trust/
LOCATION:Universität Passau
END:VEVENT
BEGIN:VEVENT
DTSTART;TZID=Europe/Berlin:20160610T100000
DTEND;TZID=Europe/Berlin:20160610T110000
DTSTAMP:20260422T125343
CREATED:20160517T113255Z
LAST-MODIFIED:20160517T113255Z
UID:10019257-1465552800-1465556400@blog.osgyan.de
SUMMARY:Gesprächstermin mit Frau Prof. Jungwirth\, Präsidentin der Universität Passau
DESCRIPTION:
URL:https://blog.osgyan.de/event/gespraechstermin-mit-frau-prof-jungwirth-praesidentin-der-universitaet-passau/
LOCATION:Universität Passau
END:VEVENT
END:VCALENDAR