BEGIN:VCALENDAR
VERSION:2.0
PRODID:-//Verena Osgyan, MdL - ECPv6.9.0//NONSGML v1.0//EN
CALSCALE:GREGORIAN
METHOD:PUBLISH
X-ORIGINAL-URL:https://blog.osgyan.de
X-WR-CALDESC:Veranstaltungen für Verena Osgyan, MdL
REFRESH-INTERVAL;VALUE=DURATION:PT1H
X-Robots-Tag:noindex
X-PUBLISHED-TTL:PT1H
BEGIN:VTIMEZONE
TZID:Europe/Berlin
BEGIN:DAYLIGHT
TZOFFSETFROM:+0100
TZOFFSETTO:+0200
TZNAME:CEST
DTSTART:20150329T010000
END:DAYLIGHT
BEGIN:STANDARD
TZOFFSETFROM:+0200
TZOFFSETTO:+0100
TZNAME:CET
DTSTART:20151025T010000
END:STANDARD
END:VTIMEZONE
BEGIN:VEVENT
DTSTART;VALUE=DATE:20150801
DTEND;VALUE=DATE:20150802
DTSTAMP:20260421T154055
CREATED:20150731T122630Z
LAST-MODIFIED:20150731T122630Z
UID:10018936-1438387200-1438473599@blog.osgyan.de
SUMMARY:CSD-Demo und Straßenfest
DESCRIPTION:
URL:https://blog.osgyan.de/event/csd-demo-und-strassenfest/
LOCATION:Unbenannter Veranstaltungsort\, Jakobsplatz\, Nürnberg
GEO:49.4494499;11.0692867
X-APPLE-STRUCTURED-LOCATION;VALUE=URI;X-ADDRESS=Unbenannter Veranstaltungsort Jakobsplatz Nürnberg;X-APPLE-RADIUS=500;X-TITLE=Jakobsplatz:geo:11.0692867,49.4494499
END:VEVENT
END:VCALENDAR