BEGIN:VCALENDAR
VERSION:2.0
PRODID:-//Verena Osgyan, MdL - ECPv6.9.0//NONSGML v1.0//EN
CALSCALE:GREGORIAN
METHOD:PUBLISH
X-WR-CALNAME:Verena Osgyan, MdL
X-ORIGINAL-URL:https://blog.osgyan.de
X-WR-CALDESC:Veranstaltungen für Verena Osgyan, MdL
REFRESH-INTERVAL;VALUE=DURATION:PT1H
X-Robots-Tag:noindex
X-PUBLISHED-TTL:PT1H
BEGIN:VTIMEZONE
TZID:Europe/Berlin
BEGIN:DAYLIGHT
TZOFFSETFROM:+0100
TZOFFSETTO:+0200
TZNAME:CEST
DTSTART:20160327T010000
END:DAYLIGHT
BEGIN:STANDARD
TZOFFSETFROM:+0200
TZOFFSETTO:+0100
TZNAME:CET
DTSTART:20161030T010000
END:STANDARD
BEGIN:DAYLIGHT
TZOFFSETFROM:+0100
TZOFFSETTO:+0200
TZNAME:CEST
DTSTART:20170326T010000
END:DAYLIGHT
BEGIN:STANDARD
TZOFFSETFROM:+0200
TZOFFSETTO:+0100
TZNAME:CET
DTSTART:20171029T010000
END:STANDARD
BEGIN:DAYLIGHT
TZOFFSETFROM:+0100
TZOFFSETTO:+0200
TZNAME:CEST
DTSTART:20180325T010000
END:DAYLIGHT
BEGIN:STANDARD
TZOFFSETFROM:+0200
TZOFFSETTO:+0100
TZNAME:CET
DTSTART:20181028T010000
END:STANDARD
END:VTIMEZONE
BEGIN:VEVENT
DTSTART;VALUE=DATE:20181020
DTEND;VALUE=DATE:20181021
DTSTAMP:20260421T135629
CREATED:20181009T084338Z
LAST-MODIFIED:20181009T084338Z
UID:10020188-1539993600-1540079999@blog.osgyan.de
SUMMARY:Landesdelegiertenkonferenz
DESCRIPTION:
URL:https://blog.osgyan.de/event/landesdelegiertenkonferenz-2/
LOCATION:Regensburg
END:VEVENT
BEGIN:VEVENT
DTSTART;TZID=Europe/Berlin:20160906T143000
DTEND;TZID=Europe/Berlin:20160906T163000
DTSTAMP:20260421T135629
CREATED:20160810T095045Z
LAST-MODIFIED:20160810T095249Z
UID:10019442-1473172200-1473179400@blog.osgyan.de
SUMMARY:Datenschutzspaziergang
DESCRIPTION:
URL:https://blog.osgyan.de/event/datenschutzspaziergang/
LOCATION:Regensburg
END:VEVENT
BEGIN:VEVENT
DTSTART;TZID=Europe/Berlin:20160904T110000
DTEND;TZID=Europe/Berlin:20160904T160000
DTSTAMP:20260421T135629
CREATED:20160810T094754Z
LAST-MODIFIED:20160810T094754Z
UID:10019441-1472986800-1473004800@blog.osgyan.de
SUMMARY:Landesarbeitsgemeinschaft (LAG) für Hochschule\, Forschung und Technologie
DESCRIPTION:
URL:https://blog.osgyan.de/event/landesarbeitsgemeinschaft-lag-fuer-hochschule-forschung-und-technologie/
LOCATION:Regensburg
END:VEVENT
END:VCALENDAR