BEGIN:VCALENDAR
VERSION:2.0
PRODID:-//Verena Osgyan, MdL - ECPv6.9.0//NONSGML v1.0//EN
CALSCALE:GREGORIAN
METHOD:PUBLISH
X-WR-CALNAME:Verena Osgyan, MdL
X-ORIGINAL-URL:https://blog.osgyan.de
X-WR-CALDESC:Veranstaltungen für Verena Osgyan, MdL
REFRESH-INTERVAL;VALUE=DURATION:PT1H
X-Robots-Tag:noindex
X-PUBLISHED-TTL:PT1H
BEGIN:VTIMEZONE
TZID:Europe/Berlin
BEGIN:DAYLIGHT
TZOFFSETFROM:+0100
TZOFFSETTO:+0200
TZNAME:CEST
DTSTART:20170326T010000
END:DAYLIGHT
BEGIN:STANDARD
TZOFFSETFROM:+0200
TZOFFSETTO:+0100
TZNAME:CET
DTSTART:20171029T010000
END:STANDARD
END:VTIMEZONE
BEGIN:VEVENT
DTSTART;TZID=Europe/Berlin:20170402T100000
DTEND;TZID=Europe/Berlin:20170402T120000
DTSTAMP:20260421T204440
CREATED:20170320T114344Z
LAST-MODIFIED:20170320T114344Z
UID:10019799-1491127200-1491134400@blog.osgyan.de
SUMMARY:GoSpecial Gottesdienst
DESCRIPTION:
URL:https://blog.osgyan.de/event/gospecial-gottesdienst/
LOCATION:Michaeliskirchengemeinde\, Ottobrunn-Neubiberg
GEO:48.081067;11.64952
X-APPLE-STRUCTURED-LOCATION;VALUE=URI;X-ADDRESS=Michaeliskirchengemeinde Ottobrunn-Neubiberg;X-APPLE-RADIUS=500;X-TITLE=Ottobrunn-Neubiberg:geo:11.64952,48.081067
END:VEVENT
END:VCALENDAR