BEGIN:VCALENDAR
VERSION:2.0
PRODID:-//Verena Osgyan, MdL - ECPv6.9.0//NONSGML v1.0//EN
CALSCALE:GREGORIAN
METHOD:PUBLISH
X-ORIGINAL-URL:https://blog.osgyan.de
X-WR-CALDESC:Veranstaltungen für Verena Osgyan, MdL
REFRESH-INTERVAL;VALUE=DURATION:PT1H
X-Robots-Tag:noindex
X-PUBLISHED-TTL:PT1H
BEGIN:VTIMEZONE
TZID:Europe/Berlin
BEGIN:DAYLIGHT
TZOFFSETFROM:+0100
TZOFFSETTO:+0200
TZNAME:CEST
DTSTART:20150329T010000
END:DAYLIGHT
BEGIN:STANDARD
TZOFFSETFROM:+0200
TZOFFSETTO:+0100
TZNAME:CET
DTSTART:20151025T010000
END:STANDARD
BEGIN:DAYLIGHT
TZOFFSETFROM:+0100
TZOFFSETTO:+0200
TZNAME:CEST
DTSTART:20160327T010000
END:DAYLIGHT
BEGIN:STANDARD
TZOFFSETFROM:+0200
TZOFFSETTO:+0100
TZNAME:CET
DTSTART:20161030T010000
END:STANDARD
BEGIN:DAYLIGHT
TZOFFSETFROM:+0100
TZOFFSETTO:+0200
TZNAME:CEST
DTSTART:20170326T010000
END:DAYLIGHT
BEGIN:STANDARD
TZOFFSETFROM:+0200
TZOFFSETTO:+0100
TZNAME:CET
DTSTART:20171029T010000
END:STANDARD
BEGIN:DAYLIGHT
TZOFFSETFROM:+0100
TZOFFSETTO:+0200
TZNAME:CEST
DTSTART:20180325T010000
END:DAYLIGHT
BEGIN:STANDARD
TZOFFSETFROM:+0200
TZOFFSETTO:+0100
TZNAME:CET
DTSTART:20181028T010000
END:STANDARD
END:VTIMEZONE
BEGIN:VEVENT
DTSTART;TZID=Europe/Berlin:20180620T160000
DTEND;TZID=Europe/Berlin:20180620T170000
DTSTAMP:20260423T150125
CREATED:20180615T105035Z
LAST-MODIFIED:20180615T105035Z
UID:10019400-1529510400-1529514000@blog.osgyan.de
SUMMARY:Symposium "Altern ohne Grenzen"\, Nürnberg Stift
DESCRIPTION:
URL:https://blog.osgyan.de/event/symposium-altern-ohne-grenzen-nuernberg-stift/
LOCATION:Marmorsaal\, Nürnberger Akademie\, Nürnberg
GEO:49.45203;11.07675
END:VEVENT
BEGIN:VEVENT
DTSTART;TZID=Europe/Berlin:20161103T170000
DTEND;TZID=Europe/Berlin:20161103T193000
DTSTAMP:20260423T150125
CREATED:20161024T101154Z
LAST-MODIFIED:20161024T101313Z
UID:10019488-1478192400-1478201400@blog.osgyan.de
SUMMARY:Symposium Altern ohne Grenzen
DESCRIPTION:
URL:https://blog.osgyan.de/event/symposium-altern-ohne-grenzen/
LOCATION:Marmorsaal\, Nürnberger Akademie\, Nürnberg
GEO:49.45203;11.07675
END:VEVENT
BEGIN:VEVENT
DTSTART;TZID=Europe/Berlin:20160507T190000
DTEND;TZID=Europe/Berlin:20160507T200000
DTSTAMP:20260423T150125
CREATED:20160413T120714Z
LAST-MODIFIED:20160413T120714Z
UID:10019165-1462647600-1462651200@blog.osgyan.de
SUMMARY:Empfang Blaue Nacht
DESCRIPTION:
URL:https://blog.osgyan.de/event/empfang-blaue-nacht/
LOCATION:Marmorsaal\, Nürnberger Akademie\, Nürnberg
GEO:49.45203;11.07675
END:VEVENT
BEGIN:VEVENT
DTSTART;TZID=Europe/Berlin:20150502T190000
DTEND;TZID=Europe/Berlin:20150502T200000
DTSTAMP:20260423T150125
CREATED:20150429T073651Z
LAST-MODIFIED:20150429T073927Z
UID:10018900-1430593200-1430596800@blog.osgyan.de
SUMMARY:Empfang "Blaue Nacht"
DESCRIPTION:
URL:https://blog.osgyan.de/event/empfang-blaue-nacht-nuernberg/
LOCATION:Marmorsaal\, Nürnberger Akademie\, Nürnberg
GEO:49.45203;11.07675
END:VEVENT
END:VCALENDAR