BEGIN:VCALENDAR
VERSION:2.0
PRODID:-//Verena Osgyan, MdL - ECPv6.9.0//NONSGML v1.0//EN
CALSCALE:GREGORIAN
METHOD:PUBLISH
X-ORIGINAL-URL:https://blog.osgyan.de
X-WR-CALDESC:Veranstaltungen für Verena Osgyan, MdL
REFRESH-INTERVAL;VALUE=DURATION:PT1H
X-Robots-Tag:noindex
X-PUBLISHED-TTL:PT1H
BEGIN:VTIMEZONE
TZID:Europe/Berlin
BEGIN:DAYLIGHT
TZOFFSETFROM:+0100
TZOFFSETTO:+0200
TZNAME:CEST
DTSTART:20150329T010000
END:DAYLIGHT
BEGIN:STANDARD
TZOFFSETFROM:+0200
TZOFFSETTO:+0100
TZNAME:CET
DTSTART:20151025T010000
END:STANDARD
BEGIN:DAYLIGHT
TZOFFSETFROM:+0100
TZOFFSETTO:+0200
TZNAME:CEST
DTSTART:20160327T010000
END:DAYLIGHT
BEGIN:STANDARD
TZOFFSETFROM:+0200
TZOFFSETTO:+0100
TZNAME:CET
DTSTART:20161030T010000
END:STANDARD
END:VTIMEZONE
BEGIN:VEVENT
DTSTART;TZID=Europe/Berlin:20160619T143000
DTEND;TZID=Europe/Berlin:20160619T160000
DTSTAMP:20260422T125308
CREATED:20160610T123929Z
LAST-MODIFIED:20160610T123929Z
UID:10019293-1466346600-1466352000@blog.osgyan.de
SUMMARY:Preisverleihung Kinder- und Jugendfilmfestival
DESCRIPTION:
URL:https://blog.osgyan.de/event/preisverleihung-kinder-und-jugendfilmfestival/
LOCATION:Kulturzentrum NEUN\, Ingolstadt
GEO:48.7665351;11.4257541
END:VEVENT
BEGIN:VEVENT
DTSTART;TZID=Europe/Berlin:20151008T183000
DTEND;TZID=Europe/Berlin:20151008T203000
DTSTAMP:20260422T125308
CREATED:20151002T112143Z
LAST-MODIFIED:20151002T112156Z
UID:10018994-1444329000-1444336200@blog.osgyan.de
SUMMARY:Kultur trifft Politik
DESCRIPTION:
URL:https://blog.osgyan.de/event/kultur-trifft-politik/
LOCATION:Kulturzentrum NEUN\, Ingolstadt
GEO:48.7665351;11.4257541
END:VEVENT
END:VCALENDAR