BEGIN:VCALENDAR
VERSION:2.0
PRODID:-//Verena Osgyan, MdL - ECPv6.9.0//NONSGML v1.0//EN
CALSCALE:GREGORIAN
METHOD:PUBLISH
X-ORIGINAL-URL:https://blog.osgyan.de
X-WR-CALDESC:Veranstaltungen für Verena Osgyan, MdL
REFRESH-INTERVAL;VALUE=DURATION:PT1H
X-Robots-Tag:noindex
X-PUBLISHED-TTL:PT1H
BEGIN:VTIMEZONE
TZID:Europe/Berlin
BEGIN:DAYLIGHT
TZOFFSETFROM:+0100
TZOFFSETTO:+0200
TZNAME:CEST
DTSTART:20150329T010000
END:DAYLIGHT
BEGIN:STANDARD
TZOFFSETFROM:+0200
TZOFFSETTO:+0100
TZNAME:CET
DTSTART:20151025T010000
END:STANDARD
END:VTIMEZONE
BEGIN:VEVENT
DTSTART;TZID=Europe/Berlin:20150819T193000
DTEND;TZID=Europe/Berlin:20150819T220000
DTSTAMP:20260424T142202
CREATED:20150814T072852Z
LAST-MODIFIED:20150814T072852Z
UID:10018944-1440012600-1440021600@blog.osgyan.de
SUMMARY:Treffen Ortsverband St. Johannis
DESCRIPTION:
URL:https://blog.osgyan.de/event/treffen-ortsverband-st-johannis/
LOCATION:Kopernikus Biergarten\, Nürnberg
GEO:49.45203;11.07675
X-APPLE-STRUCTURED-LOCATION;VALUE=URI;X-ADDRESS=Kopernikus Biergarten Nürnberg;X-APPLE-RADIUS=500;X-TITLE=Nürnberg:geo:11.07675,49.45203
END:VEVENT
END:VCALENDAR