BEGIN:VCALENDAR
VERSION:2.0
PRODID:-//Verena Osgyan, MdL - ECPv6.9.0//NONSGML v1.0//EN
CALSCALE:GREGORIAN
METHOD:PUBLISH
X-ORIGINAL-URL:https://blog.osgyan.de
X-WR-CALDESC:Veranstaltungen für Verena Osgyan, MdL
REFRESH-INTERVAL;VALUE=DURATION:PT1H
X-Robots-Tag:noindex
X-PUBLISHED-TTL:PT1H
BEGIN:VTIMEZONE
TZID:Europe/Berlin
BEGIN:DAYLIGHT
TZOFFSETFROM:+0100
TZOFFSETTO:+0200
TZNAME:CEST
DTSTART:20140330T010000
END:DAYLIGHT
BEGIN:STANDARD
TZOFFSETFROM:+0200
TZOFFSETTO:+0100
TZNAME:CET
DTSTART:20141026T010000
END:STANDARD
END:VTIMEZONE
BEGIN:VEVENT
DTSTART;TZID=Europe/Berlin:20140123T190000
DTEND;TZID=Europe/Berlin:20140123T210000
DTSTAMP:20260421T105718
CREATED:20131228T181600Z
LAST-MODIFIED:20140130T123833Z
UID:10018385-1390503600-1390510800@blog.osgyan.de
SUMMARY:Neujahrsempfang der IV. Bereitschaftspolizeiabteilung Nürnberg
DESCRIPTION:
URL:https://blog.osgyan.de/event/neujahrsempfang-der-iv-bereitschaftspolizeiabteilung-nuernberg/
LOCATION:Kongresshalle Nürnberg\, Musiksaal der Nürnberger Symphoniker
END:VEVENT
END:VCALENDAR