BEGIN:VCALENDAR
VERSION:2.0
PRODID:-//Verena Osgyan, MdL - ECPv6.9.0//NONSGML v1.0//EN
CALSCALE:GREGORIAN
METHOD:PUBLISH
X-ORIGINAL-URL:https://blog.osgyan.de
X-WR-CALDESC:Veranstaltungen für Verena Osgyan, MdL
REFRESH-INTERVAL;VALUE=DURATION:PT1H
X-Robots-Tag:noindex
X-PUBLISHED-TTL:PT1H
BEGIN:VTIMEZONE
TZID:Europe/Berlin
BEGIN:DAYLIGHT
TZOFFSETFROM:+0100
TZOFFSETTO:+0200
TZNAME:CEST
DTSTART:20190331T010000
END:DAYLIGHT
BEGIN:STANDARD
TZOFFSETFROM:+0200
TZOFFSETTO:+0100
TZNAME:CET
DTSTART:20191027T010000
END:STANDARD
END:VTIMEZONE
BEGIN:VEVENT
DTSTART;VALUE=DATE:20190428
DTEND;VALUE=DATE:20190429
DTSTAMP:20260421T170828
CREATED:20190329T092331Z
LAST-MODIFIED:20190409T082555Z
UID:10019556-1556409600-1556495999@blog.osgyan.de
SUMMARY:Klausur: Grüne Mittelfranken
DESCRIPTION:
URL:https://blog.osgyan.de/event/klausur-gruene-mittelfranken/
LOCATION:Heilsbronn
END:VEVENT
END:VCALENDAR