BEGIN:VCALENDAR
VERSION:2.0
PRODID:-//Verena Osgyan, MdL - ECPv6.9.0//NONSGML v1.0//EN
CALSCALE:GREGORIAN
METHOD:PUBLISH
X-ORIGINAL-URL:https://blog.osgyan.de
X-WR-CALDESC:Veranstaltungen für Verena Osgyan, MdL
REFRESH-INTERVAL;VALUE=DURATION:PT1H
X-Robots-Tag:noindex
X-PUBLISHED-TTL:PT1H
BEGIN:VTIMEZONE
TZID:Europe/Berlin
BEGIN:DAYLIGHT
TZOFFSETFROM:+0100
TZOFFSETTO:+0200
TZNAME:CEST
DTSTART:20140330T010000
END:DAYLIGHT
BEGIN:STANDARD
TZOFFSETFROM:+0200
TZOFFSETTO:+0100
TZNAME:CET
DTSTART:20141026T010000
END:STANDARD
END:VTIMEZONE
BEGIN:VEVENT
DTSTART;TZID=Europe/Berlin:20140626T190000
DTEND;TZID=Europe/Berlin:20140626T210000
DTSTAMP:20260421T153017
CREATED:20140624T094011Z
LAST-MODIFIED:20140624T094011Z
UID:10018697-1403809200-1403816400@blog.osgyan.de
SUMMARY:Ausstellungseröffnung BROKEN
DESCRIPTION:
URL:https://blog.osgyan.de/event/ausstellungseroeffnung-broken/
LOCATION:Haus der Kunst\, München
GEO:48.1351253;11.5819806
END:VEVENT
END:VCALENDAR