BEGIN:VCALENDAR
VERSION:2.0
PRODID:-//Verena Osgyan, MdL - ECPv6.9.0//NONSGML v1.0//EN
CALSCALE:GREGORIAN
METHOD:PUBLISH
X-ORIGINAL-URL:https://blog.osgyan.de
X-WR-CALDESC:Veranstaltungen für Verena Osgyan, MdL
REFRESH-INTERVAL;VALUE=DURATION:PT1H
X-Robots-Tag:noindex
X-PUBLISHED-TTL:PT1H
BEGIN:VTIMEZONE
TZID:Europe/Berlin
BEGIN:DAYLIGHT
TZOFFSETFROM:+0100
TZOFFSETTO:+0200
TZNAME:CEST
DTSTART:20150329T010000
END:DAYLIGHT
BEGIN:STANDARD
TZOFFSETFROM:+0200
TZOFFSETTO:+0100
TZNAME:CET
DTSTART:20151025T010000
END:STANDARD
END:VTIMEZONE
BEGIN:VEVENT
DTSTART;TZID=Europe/Berlin:20150911T170000
DTEND;TZID=Europe/Berlin:20150911T170000
DTSTAMP:20260421T193436
CREATED:20150814T074622Z
LAST-MODIFIED:20150814T074622Z
UID:10018949-1441990800-1441990800@blog.osgyan.de
SUMMARY:Besuch auf der MS Wissenschaft
DESCRIPTION:
URL:https://blog.osgyan.de/event/besuch-auf-der-ms-wissenschaft/
LOCATION:Hafen\, Nürnberg
GEO:49.45203;11.07675
X-APPLE-STRUCTURED-LOCATION;VALUE=URI;X-ADDRESS=Hafen Nürnberg;X-APPLE-RADIUS=500;X-TITLE=Nürnberg:geo:11.07675,49.45203
END:VEVENT
END:VCALENDAR