BEGIN:VCALENDAR
VERSION:2.0
PRODID:-//Verena Osgyan, MdL - ECPv6.9.0//NONSGML v1.0//EN
CALSCALE:GREGORIAN
METHOD:PUBLISH
X-WR-CALNAME:Verena Osgyan, MdL
X-ORIGINAL-URL:https://blog.osgyan.de
X-WR-CALDESC:Veranstaltungen für Verena Osgyan, MdL
REFRESH-INTERVAL;VALUE=DURATION:PT1H
X-Robots-Tag:noindex
X-PUBLISHED-TTL:PT1H
BEGIN:VTIMEZONE
TZID:Europe/Berlin
BEGIN:DAYLIGHT
TZOFFSETFROM:+0100
TZOFFSETTO:+0200
TZNAME:CEST
DTSTART:20160327T010000
END:DAYLIGHT
BEGIN:STANDARD
TZOFFSETFROM:+0200
TZOFFSETTO:+0100
TZNAME:CET
DTSTART:20161030T010000
END:STANDARD
END:VTIMEZONE
BEGIN:VEVENT
DTSTART;TZID=Europe/Berlin:20160122T163000
DTEND;TZID=Europe/Berlin:20160122T180000
DTSTAMP:20260420T124022
CREATED:20160113T112428Z
LAST-MODIFIED:20160113T112428Z
UID:10019040-1453480200-1453485600@blog.osgyan.de
SUMMARY:"Gespräch mit Frauen im Asyl" im “Das Ladencafe”\, Feuchtwangen
DESCRIPTION:
URL:https://blog.osgyan.de/event/gespraech-mit-frauen-im-asyl-im-das-ladencafe-feuchtwangen/
LOCATION:Das Ladencafé\, Feuchtwangen
GEO:49.1680911;10.3297982
X-APPLE-STRUCTURED-LOCATION;VALUE=URI;X-ADDRESS=Das Ladencafé Feuchtwangen;X-APPLE-RADIUS=500;X-TITLE=Feuchtwangen:geo:10.3297982,49.1680911
END:VEVENT
END:VCALENDAR