BEGIN:VCALENDAR
VERSION:2.0
PRODID:-//Verena Osgyan, MdL - ECPv6.9.0//NONSGML v1.0//EN
CALSCALE:GREGORIAN
METHOD:PUBLISH
X-WR-CALNAME:Verena Osgyan, MdL
X-ORIGINAL-URL:https://blog.osgyan.de
X-WR-CALDESC:Veranstaltungen für Verena Osgyan, MdL
REFRESH-INTERVAL;VALUE=DURATION:PT1H
X-Robots-Tag:noindex
X-PUBLISHED-TTL:PT1H
BEGIN:VTIMEZONE
TZID:Europe/Berlin
BEGIN:DAYLIGHT
TZOFFSETFROM:+0100
TZOFFSETTO:+0200
TZNAME:CEST
DTSTART:20260329T010000
END:DAYLIGHT
BEGIN:STANDARD
TZOFFSETFROM:+0200
TZOFFSETTO:+0100
TZNAME:CET
DTSTART:20261025T010000
END:STANDARD
END:VTIMEZONE
BEGIN:VEVENT
DTSTART;TZID=Europe/Berlin:20260202T110000
DTEND;TZID=Europe/Berlin:20260202T123000
DTSTAMP:20260420T123617
CREATED:20260127T090107Z
LAST-MODIFIED:20260127T090107Z
UID:10021771-1770030000-1770035400@blog.osgyan.de
SUMMARY:Ortsbegehung Gräfenbergbahn
DESCRIPTION:
URL:https://blog.osgyan.de/event/ortsbegehung-graefenbergbahn/
LOCATION:Nordostbahnhof
END:VEVENT
BEGIN:VEVENT
DTSTART;TZID=Europe/Berlin:20260203T170000
DTEND;TZID=Europe/Berlin:20260203T213000
DTSTAMP:20260420T123617
CREATED:20260127T090158Z
LAST-MODIFIED:20260127T090158Z
UID:10021772-1770138000-1770154200@blog.osgyan.de
SUMMARY:Festakt 200 Jahre LMU München
DESCRIPTION:
URL:https://blog.osgyan.de/event/festakt-200-jahre-lmu-muenchen/
END:VEVENT
BEGIN:VEVENT
DTSTART;TZID=Europe/Berlin:20260204T093000
DTEND;TZID=Europe/Berlin:20260204T140000
DTSTAMP:20260420T123617
CREATED:20260109T132517Z
LAST-MODIFIED:20260109T132517Z
UID:10021753-1770197400-1770213600@blog.osgyan.de
SUMMARY:Ausschuss Wissenschaft und Kunst
DESCRIPTION:
URL:https://blog.osgyan.de/event/ausschuss-wissenschaft-und-kunst-9/
LOCATION:Maximilianeum\, München
END:VEVENT
BEGIN:VEVENT
DTSTART;TZID=Europe/Berlin:20260204T093000
DTEND;TZID=Europe/Berlin:20260204T140000
DTSTAMP:20260420T123617
CREATED:20260127T090238Z
LAST-MODIFIED:20260127T090238Z
UID:10021773-1770197400-1770213600@blog.osgyan.de
SUMMARY:Ausschuss Wissenschaft und Kunst
DESCRIPTION:
URL:https://blog.osgyan.de/event/ausschuss-wissenschaft-und-kunst-11/
LOCATION:Maximilianeum\, München
END:VEVENT
BEGIN:VEVENT
DTSTART;TZID=Europe/Berlin:20260204T140000
DTEND;TZID=Europe/Berlin:20260204T170000
DTSTAMP:20260420T123617
CREATED:20260109T132630Z
LAST-MODIFIED:20260109T132630Z
UID:10021754-1770213600-1770224400@blog.osgyan.de
SUMMARY:Fraktionssitzung B 90/DIE GRÜNEN
DESCRIPTION:
URL:https://blog.osgyan.de/event/fraktionssitzung-b-90-die-gruenen-8/
LOCATION:Maximilianeum\, München
END:VEVENT
BEGIN:VEVENT
DTSTART;TZID=Europe/Berlin:20260204T140000
DTEND;TZID=Europe/Berlin:20260204T170000
DTSTAMP:20260420T123617
CREATED:20260127T090316Z
LAST-MODIFIED:20260127T090316Z
UID:10021774-1770213600-1770224400@blog.osgyan.de
SUMMARY:Fraktionssitzung B 90/DIE GRÜNEN
DESCRIPTION:
URL:https://blog.osgyan.de/event/fraktionssitzung-b-90-die-gruenen-11/
LOCATION:Maximilianeum\, München
END:VEVENT
BEGIN:VEVENT
DTSTART;TZID=Europe/Berlin:20260204T180000
DTEND;TZID=Europe/Berlin:20260204T220000
DTSTAMP:20260420T123617
CREATED:20260109T132755Z
LAST-MODIFIED:20260109T132755Z
UID:10021755-1770228000-1770242400@blog.osgyan.de
SUMMARY:Presseabend B 90/DIE GRÜNEN
DESCRIPTION:
URL:https://blog.osgyan.de/event/presseabend-b-90-die-gruenen/
LOCATION:Holzkranich\, München
END:VEVENT
BEGIN:VEVENT
DTSTART;TZID=Europe/Berlin:20260204T180000
DTEND;TZID=Europe/Berlin:20260204T220000
DTSTAMP:20260420T123617
CREATED:20260127T090406Z
LAST-MODIFIED:20260127T090406Z
UID:10021775-1770228000-1770242400@blog.osgyan.de
SUMMARY:Presseabend der Fraktion B 90/DIE GRÜNEN
DESCRIPTION:
URL:https://blog.osgyan.de/event/presseabend-der-fraktion-b-90-die-gruenen/
END:VEVENT
BEGIN:VEVENT
DTSTART;TZID=Europe/Berlin:20260205T090000
DTEND;TZID=Europe/Berlin:20260205T180000
DTSTAMP:20260420T123617
CREATED:20260109T132830Z
LAST-MODIFIED:20260109T132830Z
UID:10021756-1770282000-1770314400@blog.osgyan.de
SUMMARY:Plenarsitzung
DESCRIPTION:
URL:https://blog.osgyan.de/event/plenarsitzung-43/
LOCATION:Maximilianeum\, München
END:VEVENT
BEGIN:VEVENT
DTSTART;TZID=Europe/Berlin:20260205T090000
DTEND;TZID=Europe/Berlin:20260205T180000
DTSTAMP:20260420T123617
CREATED:20260127T090438Z
LAST-MODIFIED:20260127T090438Z
UID:10021776-1770282000-1770314400@blog.osgyan.de
SUMMARY:Plenarsitzung
DESCRIPTION:
URL:https://blog.osgyan.de/event/plenarsitzung-46/
LOCATION:Maximilianeum\, München
END:VEVENT
BEGIN:VEVENT
DTSTART;TZID=Europe/Berlin:20260210T130000
DTEND;TZID=Europe/Berlin:20260210T140000
DTSTAMP:20260420T123617
CREATED:20260109T133045Z
LAST-MODIFIED:20260109T133045Z
UID:10021757-1770728400-1770732000@blog.osgyan.de
SUMMARY:Fraktionssitzung B 90/DIE GRÜNEN
DESCRIPTION:
URL:https://blog.osgyan.de/event/fraktionssitzung-b-90-die-gruenen-9/
LOCATION:Maximilianeum\, München
END:VEVENT
BEGIN:VEVENT
DTSTART;TZID=Europe/Berlin:20260210T130000
DTEND;TZID=Europe/Berlin:20260210T140000
DTSTAMP:20260420T123617
CREATED:20260127T090634Z
LAST-MODIFIED:20260127T090634Z
UID:10021777-1770728400-1770732000@blog.osgyan.de
SUMMARY:Fraktionssitzung B 90/DIE GRÜNEN
DESCRIPTION:
URL:https://blog.osgyan.de/event/fraktionssitzung-b-90-die-gruenen-12/
LOCATION:Maximilianeum\, München
END:VEVENT
BEGIN:VEVENT
DTSTART;TZID=Europe/Berlin:20260210T140000
DTEND;TZID=Europe/Berlin:20260210T220000
DTSTAMP:20260420T123617
CREATED:20260109T133150Z
LAST-MODIFIED:20260109T133150Z
UID:10021758-1770732000-1770760800@blog.osgyan.de
SUMMARY:Plenarsitzung
DESCRIPTION:
URL:https://blog.osgyan.de/event/plenarsitzung-44/
LOCATION:Maximilianeum\, München
END:VEVENT
BEGIN:VEVENT
DTSTART;TZID=Europe/Berlin:20260210T140000
DTEND;TZID=Europe/Berlin:20260210T220000
DTSTAMP:20260420T123617
CREATED:20260127T090709Z
LAST-MODIFIED:20260127T090709Z
UID:10021778-1770732000-1770760800@blog.osgyan.de
SUMMARY:Plenarsitzung
DESCRIPTION:
URL:https://blog.osgyan.de/event/plenarsitzung-47/
LOCATION:Maximilianeum\, München
END:VEVENT
BEGIN:VEVENT
DTSTART;TZID=Europe/Berlin:20260211T093000
DTEND;TZID=Europe/Berlin:20260211T140000
DTSTAMP:20260420T123617
CREATED:20260109T133235Z
LAST-MODIFIED:20260109T133235Z
UID:10021759-1770802200-1770818400@blog.osgyan.de
SUMMARY:Ausschuss Wissenschaft und Kunst
DESCRIPTION:
URL:https://blog.osgyan.de/event/ausschuss-wissenschaft-und-kunst-10/
LOCATION:Maximilianeum\, München
END:VEVENT
BEGIN:VEVENT
DTSTART;TZID=Europe/Berlin:20260211T093000
DTEND;TZID=Europe/Berlin:20260211T140000
DTSTAMP:20260420T123617
CREATED:20260127T090750Z
LAST-MODIFIED:20260127T090750Z
UID:10021779-1770802200-1770818400@blog.osgyan.de
SUMMARY:Ausschuss Wissenschaft und Kunst
DESCRIPTION:
URL:https://blog.osgyan.de/event/ausschuss-wissenschaft-und-kunst-12/
LOCATION:Maximilianeum\, München
END:VEVENT
BEGIN:VEVENT
DTSTART;TZID=Europe/Berlin:20260211T140000
DTEND;TZID=Europe/Berlin:20260211T170000
DTSTAMP:20260420T123617
CREATED:20260127T090818Z
LAST-MODIFIED:20260127T090818Z
UID:10021780-1770818400-1770829200@blog.osgyan.de
SUMMARY:Fraktionssitzung B 90/DIE GRÜNEN
DESCRIPTION:
URL:https://blog.osgyan.de/event/fraktionssitzung-b-90-die-gruenen-13/
LOCATION:Maximilianeum\, München
END:VEVENT
BEGIN:VEVENT
DTSTART;TZID=Europe/Berlin:20260212T110000
DTEND;TZID=Europe/Berlin:20260212T120000
DTSTAMP:20260420T123617
CREATED:20260109T133529Z
LAST-MODIFIED:20260109T133529Z
UID:10021760-1770894000-1770897600@blog.osgyan.de
SUMMARY:Landtagsbesuch der Adam-Kraft-Realschule Nürnberg
DESCRIPTION:
URL:https://blog.osgyan.de/event/landtagsbesuch-der-adam-kraft-realschule-nuernberg/
LOCATION:Maximilianeum\, München
END:VEVENT
BEGIN:VEVENT
DTSTART;TZID=Europe/Berlin:20260212T180000
DTEND;TZID=Europe/Berlin:20260212T210000
DTSTAMP:20260420T123617
CREATED:20260127T091020Z
LAST-MODIFIED:20260127T091020Z
UID:10021781-1770919200-1770930000@blog.osgyan.de
SUMMARY:Veranstaltung: Bezahlbares Wohnen in Nürnberg
DESCRIPTION:
URL:https://blog.osgyan.de/event/veranstaltung-bezahlbares-wohnen-in-nuernberg/
LOCATION:Haus Eckstein
END:VEVENT
BEGIN:VEVENT
DTSTART;TZID=Europe/Berlin:20260220T140000
DTEND;TZID=Europe/Berlin:20260220T170000
DTSTAMP:20260420T123617
CREATED:20260109T133722Z
LAST-MODIFIED:20260109T133722Z
UID:10021761-1771596000-1771606800@blog.osgyan.de
SUMMARY:Kuratoriumssitzung Diakoneo
DESCRIPTION:
URL:https://blog.osgyan.de/event/kuratoriumssitzung-diakoneo-3/
END:VEVENT
BEGIN:VEVENT
DTSTART;TZID=Europe/Berlin:20260220T140000
DTEND;TZID=Europe/Berlin:20260220T170000
DTSTAMP:20260420T123617
CREATED:20260127T091204Z
LAST-MODIFIED:20260127T091204Z
UID:10021782-1771596000-1771606800@blog.osgyan.de
SUMMARY:Kuratoriumssitzung Diakoneo
DESCRIPTION:
URL:https://blog.osgyan.de/event/kuratoriumssitzung-diakoneo-4/
END:VEVENT
BEGIN:VEVENT
DTSTART;TZID=Europe/Berlin:20260227T080000
DTEND;TZID=Europe/Berlin:20260227T170000
DTSTAMP:20260420T123617
CREATED:20260109T133933Z
LAST-MODIFIED:20260109T133933Z
UID:10021762-1772179200-1772211600@blog.osgyan.de
SUMMARY:Arbeitsfrühstück "Glücksspielsucht in Bayern - gemeinsam Wege finden"
DESCRIPTION:
URL:https://blog.osgyan.de/event/arbeitsfruehstueck-gluecksspielsucht-in-bayern-gemeinsam-wege-finden/
LOCATION:Suchthilfezentrum des Stadtmission Nürnberg e.V.
END:VEVENT
BEGIN:VEVENT
DTSTART;TZID=Europe/Berlin:20260227T190000
DTEND;TZID=Europe/Berlin:20260227T210000
DTSTAMP:20260420T123617
CREATED:20260109T134035Z
LAST-MODIFIED:20260109T134035Z
UID:10021763-1772218800-1772226000@blog.osgyan.de
SUMMARY:Eröffnung des 30. Filmfestivals Türkei Deutschland
DESCRIPTION:
URL:https://blog.osgyan.de/event/eroeffnung-des-30-filmfestivals-tuerkei-deutschland/
LOCATION:Tafelhalle\, Nürnberg
END:VEVENT
BEGIN:VEVENT
DTSTART;TZID=Europe/Berlin:20260227T190000
DTEND;TZID=Europe/Berlin:20260227T210000
DTSTAMP:20260420T123617
CREATED:20260127T091328Z
LAST-MODIFIED:20260127T091328Z
UID:10021783-1772218800-1772226000@blog.osgyan.de
SUMMARY:Eröffnung des 30. Filmfestivals Türkei-Deutschland
DESCRIPTION:
URL:https://blog.osgyan.de/event/eroeffnung-des-30-filmfestivals-tuerkei-deutschland-2/
LOCATION:Tafelhalle\, Nürnberg
END:VEVENT
BEGIN:VEVENT
DTSTART;TZID=Europe/Berlin:20260228T170000
DTEND;TZID=Europe/Berlin:20260228T220000
DTSTAMP:20260420T123617
CREATED:20260127T091441Z
LAST-MODIFIED:20260127T091441Z
UID:10021784-1772298000-1772316000@blog.osgyan.de
SUMMARY:Grüner Frauenempfang
DESCRIPTION:
URL:https://blog.osgyan.de/event/gruener-frauenempfang-2/
LOCATION:Kulturscheune der Altstadtfreunde
END:VEVENT
END:VCALENDAR