BEGIN:VCALENDAR
VERSION:2.0
PRODID:-//Verena Osgyan, MdL - ECPv6.9.0//NONSGML v1.0//EN
CALSCALE:GREGORIAN
METHOD:PUBLISH
X-WR-CALNAME:Verena Osgyan, MdL
X-ORIGINAL-URL:https://blog.osgyan.de
X-WR-CALDESC:Veranstaltungen für Verena Osgyan, MdL
REFRESH-INTERVAL;VALUE=DURATION:PT1H
X-Robots-Tag:noindex
X-PUBLISHED-TTL:PT1H
BEGIN:VTIMEZONE
TZID:Europe/Berlin
BEGIN:DAYLIGHT
TZOFFSETFROM:+0100
TZOFFSETTO:+0200
TZNAME:CEST
DTSTART:20240331T010000
END:DAYLIGHT
BEGIN:STANDARD
TZOFFSETFROM:+0200
TZOFFSETTO:+0100
TZNAME:CET
DTSTART:20241027T010000
END:STANDARD
END:VTIMEZONE
BEGIN:VEVENT
DTSTART;TZID=Europe/Berlin:20240603T110000
DTEND;TZID=Europe/Berlin:20240603T123000
DTSTAMP:20260422T122943
CREATED:20240425T115345Z
LAST-MODIFIED:20240515T093233Z
UID:10020643-1717412400-1717417800@blog.osgyan.de
SUMMARY:Besuch der Technischen Universität Nürnberg mit Ursula Sowa\, MdL
DESCRIPTION:
URL:https://blog.osgyan.de/event/besuch-der-utn-mit-ursula-sowa/
END:VEVENT
BEGIN:VEVENT
DTSTART;TZID=Europe/Berlin:20240603T133000
DTEND;TZID=Europe/Berlin:20240603T160000
DTSTAMP:20260422T122943
CREATED:20240425T115430Z
LAST-MODIFIED:20240425T115430Z
UID:10020644-1717421400-1717430400@blog.osgyan.de
SUMMARY:Sitzung des Fraktionsvorstands
DESCRIPTION:
URL:https://blog.osgyan.de/event/sitzung-des-fraktionsvorstands-12/
END:VEVENT
BEGIN:VEVENT
DTSTART;TZID=Europe/Berlin:20240604T120000
DTEND;TZID=Europe/Berlin:20240604T143000
DTSTAMP:20260422T122943
CREATED:20240425T115549Z
LAST-MODIFIED:20240425T115549Z
UID:10021513-1717502400-1717511400@blog.osgyan.de
SUMMARY:Ausschuss für Öffentlichen Dienst
DESCRIPTION:
URL:https://blog.osgyan.de/event/ausschuss-fuer-oeffentlichen-dienst-34/
END:VEVENT
BEGIN:VEVENT
DTSTART;TZID=Europe/Berlin:20240604T140000
DTEND;TZID=Europe/Berlin:20240604T220000
DTSTAMP:20260422T122943
CREATED:20240425T115615Z
LAST-MODIFIED:20240425T115615Z
UID:10021514-1717509600-1717538400@blog.osgyan.de
SUMMARY:Plenum
DESCRIPTION:
URL:https://blog.osgyan.de/event/plenum-268/
END:VEVENT
BEGIN:VEVENT
DTSTART;VALUE=DATE:20240605
DTEND;VALUE=DATE:20240606
DTSTAMP:20260422T122943
CREATED:20240513T100537Z
LAST-MODIFIED:20240513T100537Z
UID:10021515-1717545600-1717631999@blog.osgyan.de
SUMMARY:Plenum
DESCRIPTION:
URL:https://blog.osgyan.de/event/plenum-269/
END:VEVENT
BEGIN:VEVENT
DTSTART;VALUE=DATE:20240606
DTEND;VALUE=DATE:20240607
DTSTAMP:20260422T122943
CREATED:20240513T100610Z
LAST-MODIFIED:20240513T100610Z
UID:10021516-1717632000-1717718399@blog.osgyan.de
SUMMARY:Plenum
DESCRIPTION:
URL:https://blog.osgyan.de/event/plenum-270/
END:VEVENT
BEGIN:VEVENT
DTSTART;VALUE=DATE:20240608
DTEND;VALUE=DATE:20240610
DTSTAMP:20260422T122943
CREATED:20240513T100713Z
LAST-MODIFIED:20240513T100713Z
UID:10021517-1717804800-1717977599@blog.osgyan.de
SUMMARY:Mitgliederversammlung der Deutsch-Israelischen Gesellschaft in Bremen
DESCRIPTION:
URL:https://blog.osgyan.de/event/mitgliederversammlung-der-deutsch-israelischen-gesellschaft-in-bremen/
END:VEVENT
BEGIN:VEVENT
DTSTART;TZID=Europe/Berlin:20240610T133000
DTEND;TZID=Europe/Berlin:20240610T160000
DTSTAMP:20260422T122943
CREATED:20240513T100814Z
LAST-MODIFIED:20240513T100814Z
UID:10021518-1718026200-1718035200@blog.osgyan.de
SUMMARY:Sitzung des Fraktionsvorstands
DESCRIPTION:
URL:https://blog.osgyan.de/event/sitzung-des-fraktionsvorstands-16/
END:VEVENT
BEGIN:VEVENT
DTSTART;TZID=Europe/Berlin:20240611T093000
DTEND;TZID=Europe/Berlin:20240611T120000
DTSTAMP:20260422T122943
CREATED:20240513T100859Z
LAST-MODIFIED:20240513T100859Z
UID:10021519-1718098200-1718107200@blog.osgyan.de
SUMMARY:Präsidiumssitzung
DESCRIPTION:
URL:https://blog.osgyan.de/event/praesidiumssitzung-2/
END:VEVENT
BEGIN:VEVENT
DTSTART;TZID=Europe/Berlin:20240611T120000
DTEND;TZID=Europe/Berlin:20240611T143000
DTSTAMP:20260422T122943
CREATED:20240513T100934Z
LAST-MODIFIED:20240513T100934Z
UID:10021520-1718107200-1718116200@blog.osgyan.de
SUMMARY:Ausschuss für Öffentlichen Dienst
DESCRIPTION:
URL:https://blog.osgyan.de/event/ausschuss-fuer-oeffentlichen-dienst-35/
END:VEVENT
BEGIN:VEVENT
DTSTART;TZID=Europe/Berlin:20240612T090000
DTEND;TZID=Europe/Berlin:20240612T140000
DTSTAMP:20260422T122943
CREATED:20240513T101316Z
LAST-MODIFIED:20240513T101316Z
UID:10021521-1718182800-1718200800@blog.osgyan.de
SUMMARY:Ausschuss für Wissenschaft und Kunst
DESCRIPTION:
URL:https://blog.osgyan.de/event/ausschuss-fuer-wissenschaft-und-kunst-91/
END:VEVENT
BEGIN:VEVENT
DTSTART;TZID=Europe/Berlin:20240612T140000
DTEND;TZID=Europe/Berlin:20240612T170000
DTSTAMP:20260422T122943
CREATED:20240513T101355Z
LAST-MODIFIED:20240513T101355Z
UID:10021522-1718200800-1718211600@blog.osgyan.de
SUMMARY:Fraktionssitzung
DESCRIPTION:
URL:https://blog.osgyan.de/event/fraktionssitzung-274/
END:VEVENT
BEGIN:VEVENT
DTSTART;TZID=Europe/Berlin:20240612T183000
DTEND;TZID=Europe/Berlin:20240612T200000
DTSTAMP:20260422T122943
CREATED:20240513T101635Z
LAST-MODIFIED:20240513T101635Z
UID:10021523-1718217000-1718222400@blog.osgyan.de
SUMMARY:Parlamentarischer Abend: deutsche beamtenbund jugend bayern
DESCRIPTION:
URL:https://blog.osgyan.de/event/parlamentarischer-abend-deutsche-beamtenbund-jugend-bayern/
END:VEVENT
BEGIN:VEVENT
DTSTART;TZID=Europe/Berlin:20240613T090000
DTEND;TZID=Europe/Berlin:20240613T180000
DTSTAMP:20260422T122943
CREATED:20240513T101705Z
LAST-MODIFIED:20240513T101705Z
UID:10021524-1718269200-1718301600@blog.osgyan.de
SUMMARY:Plenum
DESCRIPTION:
URL:https://blog.osgyan.de/event/plenum-271/
END:VEVENT
BEGIN:VEVENT
DTSTART;TZID=Europe/Berlin:20240613T180000
DTEND;TZID=Europe/Berlin:20240613T220000
DTSTAMP:20260422T122943
CREATED:20240610T101926Z
LAST-MODIFIED:20240610T101926Z
UID:10021528-1718301600-1718316000@blog.osgyan.de
SUMMARY:40.000 Theaterangehörige treffen ihre Abgeordneten - Open-Air-Konzert
DESCRIPTION:
URL:https://blog.osgyan.de/event/40-000-theaterangehoerige-treffen-ihre-abgeordneten-open-air-konzert/
END:VEVENT
BEGIN:VEVENT
DTSTART;TZID=Europe/Berlin:20240614T110000
DTEND;TZID=Europe/Berlin:20240614T120000
DTSTAMP:20260422T122943
CREATED:20240610T102019Z
LAST-MODIFIED:20240610T102019Z
UID:10021529-1718362800-1718366400@blog.osgyan.de
SUMMARY:Grundsteinlegung Berufsoberschule Langwasser
DESCRIPTION:
URL:https://blog.osgyan.de/event/grundsteinlegung-berufsoberschule-langwasser/
END:VEVENT
BEGIN:VEVENT
DTSTART;TZID=Europe/Berlin:20240615T120000
DTEND;TZID=Europe/Berlin:20240615T160000
DTSTAMP:20260422T122943
CREATED:20240610T102246Z
LAST-MODIFIED:20240610T102246Z
UID:10021530-1718452800-1718467200@blog.osgyan.de
SUMMARY:40 Jähriges Jubiläum Blindeninstitut Rückersdorf mit Sommerfest
DESCRIPTION:
URL:https://blog.osgyan.de/event/40-jaehriges-jubilaeum-blindeninstitut-rueckersdorf-mit-sommerfest/
END:VEVENT
BEGIN:VEVENT
DTSTART;TZID=Europe/Berlin:20240617T133000
DTEND;TZID=Europe/Berlin:20240617T160000
DTSTAMP:20260422T122943
CREATED:20240513T102004Z
LAST-MODIFIED:20240513T102004Z
UID:10021525-1718631000-1718640000@blog.osgyan.de
SUMMARY:Sitzung des Fraktionsvorstands
DESCRIPTION:
URL:https://blog.osgyan.de/event/sitzung-des-fraktionsvorstands-17/
END:VEVENT
BEGIN:VEVENT
DTSTART;TZID=Europe/Berlin:20240618T140000
DTEND;TZID=Europe/Berlin:20240618T220000
DTSTAMP:20260422T122943
CREATED:20240513T102030Z
LAST-MODIFIED:20240513T102030Z
UID:10021526-1718719200-1718748000@blog.osgyan.de
SUMMARY:Plenum
DESCRIPTION:
URL:https://blog.osgyan.de/event/plenum-272/
END:VEVENT
BEGIN:VEVENT
DTSTART;TZID=Europe/Berlin:20240618T160000
DTEND;TZID=Europe/Berlin:20240618T180000
DTSTAMP:20260422T122943
CREATED:20240610T102349Z
LAST-MODIFIED:20240610T102349Z
UID:10021531-1718726400-1718733600@blog.osgyan.de
SUMMARY:Kuratoriumssitzung LMU München
DESCRIPTION:
URL:https://blog.osgyan.de/event/kuratoriumssitzung-lmu-muenchen-2/
END:VEVENT
BEGIN:VEVENT
DTSTART;TZID=Europe/Berlin:20240619T090000
DTEND;TZID=Europe/Berlin:20240619T140000
DTSTAMP:20260422T122943
CREATED:20240513T102447Z
LAST-MODIFIED:20240513T102447Z
UID:10020646-1718787600-1718805600@blog.osgyan.de
SUMMARY:Ausschuss für Wissenschaft und Kunst
DESCRIPTION:
URL:https://blog.osgyan.de/event/ausschuss-fuer-wissenschaft-und-kunst-92/
END:VEVENT
BEGIN:VEVENT
DTSTART;TZID=Europe/Berlin:20240619T150000
DTEND;TZID=Europe/Berlin:20240619T170000
DTSTAMP:20260422T122943
CREATED:20240513T103204Z
LAST-MODIFIED:20240513T103204Z
UID:10020647-1718809200-1718816400@blog.osgyan.de
SUMMARY:Kuratoriumssitzung: Hochschule für Musik
DESCRIPTION:
URL:https://blog.osgyan.de/event/kuratoriumssitzung-hochschule-fuer-musik/
END:VEVENT
BEGIN:VEVENT
DTSTART;TZID=Europe/Berlin:20240620T123000
DTEND;TZID=Europe/Berlin:20240620T133000
DTSTAMP:20260422T122943
CREATED:20240619T090111Z
LAST-MODIFIED:20240619T090111Z
UID:10020663-1718886600-1718890200@blog.osgyan.de
SUMMARY:Politische Pause am Labenwolf Gymnasium
DESCRIPTION:
URL:https://blog.osgyan.de/event/politische-pause-am-labenwolf-gymnasium/
END:VEVENT
BEGIN:VEVENT
DTSTART;TZID=Europe/Berlin:20240620T180000
DTEND;TZID=Europe/Berlin:20240620T203000
DTSTAMP:20260422T122944
CREATED:20240513T103253Z
LAST-MODIFIED:20240513T103253Z
UID:10020648-1718906400-1718915400@blog.osgyan.de
SUMMARY:75 Jahre BR - Regionalempfang Franken des Bayerischen Rundfunks
DESCRIPTION:
URL:https://blog.osgyan.de/event/75-jahre-br-regionalempfang-franken-des-bayerischen-rundfunks/
END:VEVENT
BEGIN:VEVENT
DTSTART;TZID=Europe/Berlin:20240621T170000
DTEND;TZID=Europe/Berlin:20240621T200000
DTSTAMP:20260422T122944
CREATED:20240619T090639Z
LAST-MODIFIED:20240619T090639Z
UID:10020664-1718989200-1719000000@blog.osgyan.de
SUMMARY:Kirchweiheröffnung Johannis
DESCRIPTION:
URL:https://blog.osgyan.de/event/kirchweiheroeffnung-johannis/
END:VEVENT
BEGIN:VEVENT
DTSTART;TZID=Europe/Berlin:20240622T100000
DTEND;TZID=Europe/Berlin:20240622T160000
DTSTAMP:20260422T122944
CREATED:20240513T103341Z
LAST-MODIFIED:20240513T103341Z
UID:10020649-1719050400-1719072000@blog.osgyan.de
SUMMARY:Jahreshauptversammlung Bündnis 90/Die Grünen Nürnberg
DESCRIPTION:
URL:https://blog.osgyan.de/event/jahreshauptversammlung-buendnis-90-die-gruenen-nuernberg/
END:VEVENT
BEGIN:VEVENT
DTSTART;VALUE=DATE:20240623
DTEND;VALUE=DATE:20240624
DTSTAMP:20260422T122944
CREATED:20240619T090847Z
LAST-MODIFIED:20240619T090847Z
UID:10020666-1719100800-1719187199@blog.osgyan.de
SUMMARY:Stadtteilfest Muggeley
DESCRIPTION:
URL:https://blog.osgyan.de/event/stadtteilfest-muggeley-2/
END:VEVENT
BEGIN:VEVENT
DTSTART;TZID=Europe/Berlin:20240625T140000
DTEND;TZID=Europe/Berlin:20240625T160000
DTSTAMP:20260422T122944
CREATED:20240610T102855Z
LAST-MODIFIED:20240610T102855Z
UID:10021532-1719324000-1719331200@blog.osgyan.de
SUMMARY:Festakt 50 Jahre Hochschule für den öffentlichen Dienst in Bayern
DESCRIPTION:
URL:https://blog.osgyan.de/event/festakt-50-jahre-hochschule-fuer-den-oeffentlichen-dienst-in-bayern/
END:VEVENT
BEGIN:VEVENT
DTSTART;TZID=Europe/Berlin:20240626T190000
DTEND;TZID=Europe/Berlin:20240626T210000
DTSTAMP:20260422T122944
CREATED:20240610T103051Z
LAST-MODIFIED:20240610T103051Z
UID:10021534-1719428400-1719435600@blog.osgyan.de
SUMMARY:Jahresempfang Kirchenkreis Nürnberg
DESCRIPTION:
URL:https://blog.osgyan.de/event/jahresempfang-kirchenkreis-nuernberg/
END:VEVENT
BEGIN:VEVENT
DTSTART;TZID=Europe/Berlin:20240627T173000
DTEND;TZID=Europe/Berlin:20240627T193000
DTSTAMP:20260422T122944
CREATED:20240610T103006Z
LAST-MODIFIED:20240610T103006Z
UID:10021533-1719509400-1719516600@blog.osgyan.de
SUMMARY:Auftaktveranstaltung KiTa-Gipfel Nürnberg
DESCRIPTION:
URL:https://blog.osgyan.de/event/auftaktveranstaltung-kita-gipfel-nuernberg/
END:VEVENT
END:VCALENDAR