BEGIN:VCALENDAR
VERSION:2.0
PRODID:-//Verena Osgyan, MdL - ECPv6.9.0//NONSGML v1.0//EN
CALSCALE:GREGORIAN
METHOD:PUBLISH
X-WR-CALNAME:Verena Osgyan, MdL
X-ORIGINAL-URL:https://blog.osgyan.de
X-WR-CALDESC:Veranstaltungen für Verena Osgyan, MdL
REFRESH-INTERVAL;VALUE=DURATION:PT1H
X-Robots-Tag:noindex
X-PUBLISHED-TTL:PT1H
BEGIN:VTIMEZONE
TZID:Europe/Berlin
BEGIN:DAYLIGHT
TZOFFSETFROM:+0100
TZOFFSETTO:+0200
TZNAME:CEST
DTSTART:20230326T010000
END:DAYLIGHT
BEGIN:STANDARD
TZOFFSETFROM:+0200
TZOFFSETTO:+0100
TZNAME:CET
DTSTART:20231029T010000
END:STANDARD
END:VTIMEZONE
BEGIN:VEVENT
DTSTART;TZID=Europe/Berlin:20231201T100000
DTEND;TZID=Europe/Berlin:20231201T130000
DTSTAMP:20260424T123042
CREATED:20231127T111333Z
LAST-MODIFIED:20231127T111333Z
UID:10020546-1701424800-1701435600@blog.osgyan.de
SUMMARY:Veranstaltung 40 Jahre Frauennotruf Nürnberg e.V.
DESCRIPTION:
URL:https://blog.osgyan.de/event/veranstaltung-40-jahre-frauennotruf-nuernberg-e-v/
END:VEVENT
BEGIN:VEVENT
DTSTART;TZID=Europe/Berlin:20231201T130000
DTEND;TZID=Europe/Berlin:20231201T140000
DTSTAMP:20260424T123042
CREATED:20231127T111405Z
LAST-MODIFIED:20231127T111405Z
UID:10021418-1701435600-1701439200@blog.osgyan.de
SUMMARY:Spendensammelaktion Aids-Hilfe
DESCRIPTION:
URL:https://blog.osgyan.de/event/spendensammelaktion-aids-hilfe/
END:VEVENT
BEGIN:VEVENT
DTSTART;TZID=Europe/Berlin:20231201T173000
DTEND;TZID=Europe/Berlin:20231201T220000
DTSTAMP:20260424T123042
CREATED:20231113T092727Z
LAST-MODIFIED:20231113T092727Z
UID:10020541-1701451800-1701468000@blog.osgyan.de
SUMMARY:Veranstaltung KI\, Feminismus und Kreativität vom Museum für Kommunikation Nürnberg
DESCRIPTION:
URL:https://blog.osgyan.de/event/veranstaltung-ki-feminismus-und-kreativitaet-vom-museum-fuer-kommunikation-nuernberg/
END:VEVENT
BEGIN:VEVENT
DTSTART;TZID=Europe/Berlin:20231204T160000
DTEND;TZID=Europe/Berlin:20231204T180000
DTSTAMP:20260424T123042
CREATED:20231127T111536Z
LAST-MODIFIED:20231127T111536Z
UID:10021419-1701705600-1701712800@blog.osgyan.de
SUMMARY:Sitzung des bayerischen Forschungsstiftungsrat
DESCRIPTION:
URL:https://blog.osgyan.de/event/sitzung-des-bayerischen-forschungsstiftungsrat/
END:VEVENT
BEGIN:VEVENT
DTSTART;TZID=Europe/Berlin:20231205T100000
DTEND;TZID=Europe/Berlin:20231205T120000
DTSTAMP:20260424T123042
CREATED:20231127T111659Z
LAST-MODIFIED:20231127T111659Z
UID:10021420-1701770400-1701777600@blog.osgyan.de
SUMMARY:Sitzung des Arbeitskreises Bildung und Kultur
DESCRIPTION:
URL:https://blog.osgyan.de/event/sitzung-des-arbeitskreises-bildung-und-kultur/
END:VEVENT
BEGIN:VEVENT
DTSTART;TZID=Europe/Berlin:20231205T130000
DTEND;TZID=Europe/Berlin:20231205T140000
DTSTAMP:20260424T123042
CREATED:20231127T111725Z
LAST-MODIFIED:20231127T111725Z
UID:10021421-1701781200-1701784800@blog.osgyan.de
SUMMARY:Fraktionssitzung
DESCRIPTION:
URL:https://blog.osgyan.de/event/fraktionssitzung-259/
END:VEVENT
BEGIN:VEVENT
DTSTART;TZID=Europe/Berlin:20231205T140000
DTEND;TZID=Europe/Berlin:20231205T180000
DTSTAMP:20260424T123042
CREATED:20231127T111803Z
LAST-MODIFIED:20231127T111803Z
UID:10021422-1701784800-1701799200@blog.osgyan.de
SUMMARY:Sitzung des Bayerischen Landtags
DESCRIPTION:
URL:https://blog.osgyan.de/event/sitzung-des-bayerischen-landtags-3/
END:VEVENT
BEGIN:VEVENT
DTSTART;TZID=Europe/Berlin:20231205T180000
DTEND;TZID=Europe/Berlin:20231205T220000
DTSTAMP:20260424T123042
CREATED:20231127T111918Z
LAST-MODIFIED:20231127T111918Z
UID:10021423-1701799200-1701813600@blog.osgyan.de
SUMMARY:Weihnachtsfeier der Grünen Landtagsfraktion
DESCRIPTION:
URL:https://blog.osgyan.de/event/weihnachtsfeier-der-gruenen-landtagsfraktion-2/
END:VEVENT
BEGIN:VEVENT
DTSTART;TZID=Europe/Berlin:20231206T090000
DTEND;TZID=Europe/Berlin:20231206T143000
DTSTAMP:20260424T123042
CREATED:20231127T112022Z
LAST-MODIFIED:20231205T154446Z
UID:10021424-1701853200-1701873000@blog.osgyan.de
SUMMARY:Sitzung des Ausschusses für Wissenschaft und Kunst
DESCRIPTION:
URL:https://blog.osgyan.de/event/sitzung-des-ausschusses-fuer-wissenschaft-und-kultur/
END:VEVENT
BEGIN:VEVENT
DTSTART;TZID=Europe/Berlin:20231206T140000
DTEND;TZID=Europe/Berlin:20231206T170000
DTSTAMP:20260424T123042
CREATED:20231127T112115Z
LAST-MODIFIED:20231127T112115Z
UID:10021425-1701871200-1701882000@blog.osgyan.de
SUMMARY:Fraktionssitzung
DESCRIPTION:
URL:https://blog.osgyan.de/event/fraktionssitzung-260/
END:VEVENT
BEGIN:VEVENT
DTSTART;TZID=Europe/Berlin:20231207T110000
DTEND;TZID=Europe/Berlin:20231207T120000
DTSTAMP:20260424T123042
CREATED:20231127T112221Z
LAST-MODIFIED:20231127T112221Z
UID:10021426-1701946800-1701950400@blog.osgyan.de
SUMMARY:Gemeinsames Treffen mit der Israelitischen Kulturgemeinde mit MdB Sascha Müller
DESCRIPTION:
URL:https://blog.osgyan.de/event/gemeinsames-treffen-mit-der-israelitischen-kulturgemeinde-mit-mdb-sascha-mueller/
END:VEVENT
BEGIN:VEVENT
DTSTART;TZID=Europe/Berlin:20231208T110000
DTEND;TZID=Europe/Berlin:20231208T120000
DTSTAMP:20260424T123042
CREATED:20231127T112418Z
LAST-MODIFIED:20231127T112418Z
UID:10021427-1702033200-1702036800@blog.osgyan.de
SUMMARY:Gemeinsames Treffen mit den Johanniter Nürnberg mit MdB Sascha Müller
DESCRIPTION:
URL:https://blog.osgyan.de/event/gemeinsames-treffen-mit-den-johanniter-nuernberg-mit-mdb-sascha-mueller/
END:VEVENT
BEGIN:VEVENT
DTSTART;VALUE=DATE:20231213
DTEND;VALUE=DATE:20231215
DTSTAMP:20260424T123042
CREATED:20231213T093644Z
LAST-MODIFIED:20231213T093644Z
UID:10021429-1702425600-1702598399@blog.osgyan.de
SUMMARY:Klausurtagung des Landtagspräsidiums
DESCRIPTION:
URL:https://blog.osgyan.de/event/klausurtagung-des-landtagspraesidiums/
END:VEVENT
BEGIN:VEVENT
DTSTART;TZID=Europe/Berlin:20231215T110000
DTEND;TZID=Europe/Berlin:20231215T150000
DTSTAMP:20260424T123042
CREATED:20231012T081606Z
LAST-MODIFIED:20231012T081745Z
UID:10021406-1702638000-1702652400@blog.osgyan.de
SUMMARY:Sitzung der Landesarbeitsgemeinschafts Hochschule – Forschung – Technologie
DESCRIPTION:
URL:https://blog.osgyan.de/event/sitzung-der-landesarbeitsgemeinschafts-hochschule-forschung-technologie-2/
END:VEVENT
BEGIN:VEVENT
DTSTART;TZID=Europe/Berlin:20231215T190000
DTEND;TZID=Europe/Berlin:20231215T230000
DTSTAMP:20260424T123042
CREATED:20231213T093607Z
LAST-MODIFIED:20231213T093607Z
UID:10021428-1702666800-1702681200@blog.osgyan.de
SUMMARY:Weihnachtsfeier Bündnis 90/Die Grünen Nürnberg
DESCRIPTION:
URL:https://blog.osgyan.de/event/weihnachtsfeier-buendnis-90-die-gruenen-nuernberg/
END:VEVENT
BEGIN:VEVENT
DTSTART;TZID=Europe/Berlin:20231218T140000
DTEND;TZID=Europe/Berlin:20231218T180000
DTSTAMP:20260424T123042
CREATED:20231213T093802Z
LAST-MODIFIED:20231213T093802Z
UID:10021430-1702908000-1702922400@blog.osgyan.de
SUMMARY:Klausurtagung des erweiterten Fraktionsvorstands
DESCRIPTION:
URL:https://blog.osgyan.de/event/klausurtagung-des-erweiterten-fraktionsvorstands/
END:VEVENT
BEGIN:VEVENT
DTSTART;TZID=Europe/Berlin:20231219T160000
DTEND;TZID=Europe/Berlin:20231219T170000
DTSTAMP:20260424T123042
CREATED:20231213T094056Z
LAST-MODIFIED:20231213T094056Z
UID:10021431-1703001600-1703005200@blog.osgyan.de
SUMMARY:Besuch des Stands der noris Inklusion am Nürnberger Christkindlesmarkt
DESCRIPTION:
URL:https://blog.osgyan.de/event/besuch-des-stands-der-noris-inklusion-am-nuernberger-christkindlesmarkt/
END:VEVENT
BEGIN:VEVENT
DTSTART;TZID=Europe/Berlin:20231222T190000
DTEND;TZID=Europe/Berlin:20231222T220000
DTSTAMP:20260424T123042
CREATED:20231218T095717Z
LAST-MODIFIED:20231218T095717Z
UID:10020556-1703271600-1703282400@blog.osgyan.de
SUMMARY:Weihnachtskonzert des Windsbacher Knabenchors
DESCRIPTION:
URL:https://blog.osgyan.de/event/weihnachtskonzert-des-windsbacher-knabenchors/
END:VEVENT
END:VCALENDAR