BEGIN:VCALENDAR
VERSION:2.0
PRODID:-//Verena Osgyan, MdL - ECPv6.9.0//NONSGML v1.0//EN
CALSCALE:GREGORIAN
METHOD:PUBLISH
X-WR-CALNAME:Verena Osgyan, MdL
X-ORIGINAL-URL:https://blog.osgyan.de
X-WR-CALDESC:Veranstaltungen für Verena Osgyan, MdL
REFRESH-INTERVAL;VALUE=DURATION:PT1H
X-Robots-Tag:noindex
X-PUBLISHED-TTL:PT1H
BEGIN:VTIMEZONE
TZID:Europe/Berlin
BEGIN:DAYLIGHT
TZOFFSETFROM:+0100
TZOFFSETTO:+0200
TZNAME:CEST
DTSTART:20260329T010000
END:DAYLIGHT
BEGIN:STANDARD
TZOFFSETFROM:+0200
TZOFFSETTO:+0100
TZNAME:CET
DTSTART:20261025T010000
END:STANDARD
END:VTIMEZONE
BEGIN:VEVENT
DTSTART;TZID=Europe/Berlin:20260120T163000
DTEND;TZID=Europe/Berlin:20260120T180000
DTSTAMP:20260421T132243
CREATED:20260109T112234Z
LAST-MODIFIED:20260109T112535Z
UID:10021736-1768926600-1768932000@blog.osgyan.de
SUMMARY:Festakt anlässlich des 7-jährigen Bestehens des BKDR
DESCRIPTION:
URL:https://blog.osgyan.de/event/festakt-anlaesslich-des-7-jaehrigen-bestehens-des-bkdr/
LOCATION:Bayerisches Kulturzentrum der Deutschen aus Russland\, Sandstr. 20A\, Nürnberg
END:VEVENT
BEGIN:VEVENT
DTSTART;TZID=Europe/Berlin:20260120T183000
DTEND;TZID=Europe/Berlin:20260120T210000
DTSTAMP:20260421T132243
CREATED:20260109T112425Z
LAST-MODIFIED:20260109T112425Z
UID:10021737-1768933800-1768942800@blog.osgyan.de
SUMMARY:Jahresempfang des Haus der Heimat
DESCRIPTION:
URL:https://blog.osgyan.de/event/jahresempfang-des-haus-der-heimat/
END:VEVENT
END:VCALENDAR