BEGIN:VCALENDAR
VERSION:2.0
PRODID:-//Verena Osgyan, MdL - ECPv6.9.0//NONSGML v1.0//EN
CALSCALE:GREGORIAN
METHOD:PUBLISH
X-ORIGINAL-URL:https://blog.osgyan.de
X-WR-CALDESC:Veranstaltungen für Verena Osgyan, MdL
REFRESH-INTERVAL;VALUE=DURATION:PT1H
X-Robots-Tag:noindex
X-PUBLISHED-TTL:PT1H
BEGIN:VTIMEZONE
TZID:Europe/Berlin
BEGIN:DAYLIGHT
TZOFFSETFROM:+0100
TZOFFSETTO:+0200
TZNAME:CEST
DTSTART:20240331T010000
END:DAYLIGHT
BEGIN:STANDARD
TZOFFSETFROM:+0200
TZOFFSETTO:+0100
TZNAME:CET
DTSTART:20241027T010000
END:STANDARD
END:VTIMEZONE
BEGIN:VEVENT
DTSTART;TZID=Europe/Berlin:20241009T093000
DTEND;TZID=Europe/Berlin:20241009T140000
DTSTAMP:20260421T173242
CREATED:20240912T080604Z
LAST-MODIFIED:20240912T080604Z
UID:10021578-1728466200-1728482400@blog.osgyan.de
SUMMARY:Ausschuss für Wissenschaft und Kunst
DESCRIPTION:
URL:https://blog.osgyan.de/event/ausschuss-fuer-wissenschaft-und-kunst-95/
END:VEVENT
BEGIN:VEVENT
DTSTART;TZID=Europe/Berlin:20241009T140000
DTEND;TZID=Europe/Berlin:20241009T163000
DTSTAMP:20260421T173242
CREATED:20240912T080647Z
LAST-MODIFIED:20241007T081949Z
UID:10020703-1728482400-1728491400@blog.osgyan.de
SUMMARY:Fraktionssitzung
DESCRIPTION:
URL:https://blog.osgyan.de/event/fraktionssitzung-279/
END:VEVENT
BEGIN:VEVENT
DTSTART;TZID=Europe/Berlin:20241009T163000
DTEND;TZID=Europe/Berlin:20241009T183000
DTSTAMP:20260421T173242
CREATED:20241007T082022Z
LAST-MODIFIED:20241007T082022Z
UID:10021580-1728491400-1728498600@blog.osgyan.de
SUMMARY:Festakt 70 Jahre Justiz in der Flaschenhofstraße
DESCRIPTION:
URL:https://blog.osgyan.de/event/festakt-70-jahre-justiz-in-der-flaschenhofstrasse/
END:VEVENT
END:VCALENDAR