BEGIN:VCALENDAR
VERSION:2.0
PRODID:-//Verena Osgyan, MdL - ECPv6.9.0//NONSGML v1.0//EN
CALSCALE:GREGORIAN
METHOD:PUBLISH
X-WR-CALNAME:Verena Osgyan, MdL
X-ORIGINAL-URL:https://blog.osgyan.de
X-WR-CALDESC:Veranstaltungen für Verena Osgyan, MdL
REFRESH-INTERVAL;VALUE=DURATION:PT1H
X-Robots-Tag:noindex
X-PUBLISHED-TTL:PT1H
BEGIN:VTIMEZONE
TZID:Europe/Berlin
BEGIN:DAYLIGHT
TZOFFSETFROM:+0100
TZOFFSETTO:+0200
TZNAME:CEST
DTSTART:20240331T010000
END:DAYLIGHT
BEGIN:STANDARD
TZOFFSETFROM:+0200
TZOFFSETTO:+0100
TZNAME:CET
DTSTART:20241027T010000
END:STANDARD
END:VTIMEZONE
BEGIN:VEVENT
DTSTART;TZID=Europe/Berlin:20240915T110000
DTEND;TZID=Europe/Berlin:20240915T120000
DTSTAMP:20260421T170121
CREATED:20240912T075604Z
LAST-MODIFIED:20240912T075604Z
UID:10021571-1726398000-1726401600@blog.osgyan.de
SUMMARY:Gedenkveranstaltung für die Opfer der "Nürnberger Rassengesetze"
DESCRIPTION:
URL:https://blog.osgyan.de/event/gedenkveranstaltung-fuer-die-opfer-der-nuernberger-rassengesetze-2/
END:VEVENT
BEGIN:VEVENT
DTSTART;TZID=Europe/Berlin:20240915T200000
DTEND;TZID=Europe/Berlin:20240915T230000
DTSTAMP:20260421T170121
CREATED:20240912T075730Z
LAST-MODIFIED:20240912T075730Z
UID:10021572-1726430400-1726441200@blog.osgyan.de
SUMMARY:Petra Kelly Filmvorführung und Diskussion
DESCRIPTION:
URL:https://blog.osgyan.de/event/petra-kelly-filmvorfuehrung-und-diskussion/
END:VEVENT
END:VCALENDAR