BEGIN:VCALENDAR
VERSION:2.0
PRODID:-//Verena Osgyan, MdL - ECPv6.9.0//NONSGML v1.0//EN
CALSCALE:GREGORIAN
METHOD:PUBLISH
X-ORIGINAL-URL:https://blog.osgyan.de
X-WR-CALDESC:Veranstaltungen für Verena Osgyan, MdL
REFRESH-INTERVAL;VALUE=DURATION:PT1H
X-Robots-Tag:noindex
X-PUBLISHED-TTL:PT1H
BEGIN:VTIMEZONE
TZID:Europe/Berlin
BEGIN:DAYLIGHT
TZOFFSETFROM:+0100
TZOFFSETTO:+0200
TZNAME:CEST
DTSTART:20240331T010000
END:DAYLIGHT
BEGIN:STANDARD
TZOFFSETFROM:+0200
TZOFFSETTO:+0100
TZNAME:CET
DTSTART:20241027T010000
END:STANDARD
END:VTIMEZONE
BEGIN:VEVENT
DTSTART;TZID=Europe/Berlin:20240904T100000
DTEND;TZID=Europe/Berlin:20240904T170000
DTSTAMP:20260421T122030
CREATED:20240822T084227Z
LAST-MODIFIED:20240822T084227Z
UID:10020687-1725444000-1725469200@blog.osgyan.de
SUMMARY:Seniorentag des Grünen Kreisverbandes Roth
DESCRIPTION:
URL:https://blog.osgyan.de/event/seniorentag-des-gruenen-kreisverbandes-roth/
END:VEVENT
END:VCALENDAR