BEGIN:VCALENDAR
VERSION:2.0
PRODID:-//Verena Osgyan, MdL - ECPv6.9.0//NONSGML v1.0//EN
CALSCALE:GREGORIAN
METHOD:PUBLISH
X-WR-CALNAME:Verena Osgyan, MdL
X-ORIGINAL-URL:https://blog.osgyan.de
X-WR-CALDESC:Veranstaltungen für Verena Osgyan, MdL
REFRESH-INTERVAL;VALUE=DURATION:PT1H
X-Robots-Tag:noindex
X-PUBLISHED-TTL:PT1H
BEGIN:VTIMEZONE
TZID:Europe/Berlin
BEGIN:DAYLIGHT
TZOFFSETFROM:+0100
TZOFFSETTO:+0200
TZNAME:CEST
DTSTART:20240331T010000
END:DAYLIGHT
BEGIN:STANDARD
TZOFFSETFROM:+0200
TZOFFSETTO:+0100
TZNAME:CET
DTSTART:20241027T010000
END:STANDARD
END:VTIMEZONE
BEGIN:VEVENT
DTSTART;TZID=Europe/Berlin:20240701T090000
DTEND;TZID=Europe/Berlin:20240701T100000
DTSTAMP:20260421T104721
CREATED:20240610T104437Z
LAST-MODIFIED:20240610T104437Z
UID:10020658-1719824400-1719828000@blog.osgyan.de
SUMMARY:Sitzung des Fraktionsvorstands
DESCRIPTION:
URL:https://blog.osgyan.de/event/sitzung-des-fraktionsvorstands-19/
END:VEVENT
BEGIN:VEVENT
DTSTART;TZID=Europe/Berlin:20240701T133000
DTEND;TZID=Europe/Berlin:20240701T160000
DTSTAMP:20260421T104721
CREATED:20240610T103950Z
LAST-MODIFIED:20240610T103950Z
UID:10021536-1719840600-1719849600@blog.osgyan.de
SUMMARY:Sitzung des Fraktionsvorstands
DESCRIPTION:
URL:https://blog.osgyan.de/event/sitzung-des-fraktionsvorstands-18/
END:VEVENT
BEGIN:VEVENT
DTSTART;TZID=Europe/Berlin:20240701T160000
DTEND;TZID=Europe/Berlin:20240701T220000
DTSTAMP:20260421T104721
CREATED:20240610T104034Z
LAST-MODIFIED:20240610T104034Z
UID:10021537-1719849600-1719871200@blog.osgyan.de
SUMMARY:Nürnberger Digital Festival 2024
DESCRIPTION:
URL:https://blog.osgyan.de/event/nuernberger-digital-festival-2024/
END:VEVENT
END:VCALENDAR