BEGIN:VCALENDAR
VERSION:2.0
PRODID:-//Verena Osgyan, MdL - ECPv6.9.0//NONSGML v1.0//EN
CALSCALE:GREGORIAN
METHOD:PUBLISH
X-WR-CALNAME:Verena Osgyan, MdL
X-ORIGINAL-URL:https://blog.osgyan.de
X-WR-CALDESC:Veranstaltungen für Verena Osgyan, MdL
REFRESH-INTERVAL;VALUE=DURATION:PT1H
X-Robots-Tag:noindex
X-PUBLISHED-TTL:PT1H
BEGIN:VTIMEZONE
TZID:Europe/Berlin
BEGIN:DAYLIGHT
TZOFFSETFROM:+0100
TZOFFSETTO:+0200
TZNAME:CEST
DTSTART:20240331T010000
END:DAYLIGHT
BEGIN:STANDARD
TZOFFSETFROM:+0200
TZOFFSETTO:+0100
TZNAME:CET
DTSTART:20241027T010000
END:STANDARD
END:VTIMEZONE
BEGIN:VEVENT
DTSTART;TZID=Europe/Berlin:20240503T090000
DTEND;TZID=Europe/Berlin:20240503T140000
DTSTAMP:20260420T152731
CREATED:20240321T104423Z
LAST-MODIFIED:20240321T104423Z
UID:10021500-1714726800-1714744800@blog.osgyan.de
SUMMARY:Treffen des Landesverbands Wissenschaftliches Personal in Bayern
DESCRIPTION:
URL:https://blog.osgyan.de/event/treffen-des-landesverbands-wissenschaftliches-personal-in-bayern/
END:VEVENT
BEGIN:VEVENT
DTSTART;TZID=Europe/Berlin:20240503T190000
DTEND;TZID=Europe/Berlin:20240503T213000
DTSTAMP:20260420T152731
CREATED:20240425T113319Z
LAST-MODIFIED:20240425T113319Z
UID:10020639-1714762800-1714771800@blog.osgyan.de
SUMMARY:Jahresempfang von Fliederlich e.V.
DESCRIPTION:
URL:https://blog.osgyan.de/event/jahresempfang-von-fliederlich-e-v/
END:VEVENT
END:VCALENDAR