BEGIN:VCALENDAR
VERSION:2.0
PRODID:-//Verena Osgyan, MdL - ECPv6.9.0//NONSGML v1.0//EN
CALSCALE:GREGORIAN
METHOD:PUBLISH
X-ORIGINAL-URL:https://blog.osgyan.de
X-WR-CALDESC:Veranstaltungen für Verena Osgyan, MdL
REFRESH-INTERVAL;VALUE=DURATION:PT1H
X-Robots-Tag:noindex
X-PUBLISHED-TTL:PT1H
BEGIN:VTIMEZONE
TZID:Europe/Berlin
BEGIN:DAYLIGHT
TZOFFSETFROM:+0100
TZOFFSETTO:+0200
TZNAME:CEST
DTSTART:20240331T010000
END:DAYLIGHT
BEGIN:STANDARD
TZOFFSETFROM:+0200
TZOFFSETTO:+0100
TZNAME:CET
DTSTART:20241027T010000
END:STANDARD
END:VTIMEZONE
BEGIN:VEVENT
DTSTART;VALUE=DATE:20240417
DTEND;VALUE=DATE:20240418
DTSTAMP:20260421T132458
CREATED:20240320T110729Z
LAST-MODIFIED:20240320T110729Z
UID:10020621-1713312000-1713398399@blog.osgyan.de
SUMMARY:Besuchergruppe im Landtag
DESCRIPTION:
URL:https://blog.osgyan.de/event/besuchergruppe-im-landtag-3/
END:VEVENT
BEGIN:VEVENT
DTSTART;TZID=Europe/Berlin:20240417T090000
DTEND;TZID=Europe/Berlin:20240417T100000
DTSTAMP:20260421T132458
CREATED:20240320T110801Z
LAST-MODIFIED:20240320T110801Z
UID:10020623-1713344400-1713348000@blog.osgyan.de
SUMMARY:Sitzung des Fraktionsvorstands
DESCRIPTION:
URL:https://blog.osgyan.de/event/sitzung-des-fraktionsvorstands-14/
END:VEVENT
BEGIN:VEVENT
DTSTART;TZID=Europe/Berlin:20240417T100000
DTEND;TZID=Europe/Berlin:20240417T123000
DTSTAMP:20260421T132458
CREATED:20240320T110903Z
LAST-MODIFIED:20240320T110903Z
UID:10020625-1713348000-1713357000@blog.osgyan.de
SUMMARY:Fraktionssitzung
DESCRIPTION:
URL:https://blog.osgyan.de/event/fraktionssitzung-270/
END:VEVENT
BEGIN:VEVENT
DTSTART;TZID=Europe/Berlin:20240417T130000
DTEND;TZID=Europe/Berlin:20240417T220000
DTSTAMP:20260421T132458
CREATED:20240320T110933Z
LAST-MODIFIED:20240320T110933Z
UID:10020626-1713358800-1713391200@blog.osgyan.de
SUMMARY:Plenum
DESCRIPTION:
URL:https://blog.osgyan.de/event/plenum-266/
END:VEVENT
END:VCALENDAR