BEGIN:VCALENDAR
VERSION:2.0
PRODID:-//Verena Osgyan, MdL - ECPv6.9.0//NONSGML v1.0//EN
CALSCALE:GREGORIAN
METHOD:PUBLISH
X-WR-CALNAME:Verena Osgyan, MdL
X-ORIGINAL-URL:https://blog.osgyan.de
X-WR-CALDESC:Veranstaltungen für Verena Osgyan, MdL
REFRESH-INTERVAL;VALUE=DURATION:PT1H
X-Robots-Tag:noindex
X-PUBLISHED-TTL:PT1H
BEGIN:VTIMEZONE
TZID:Europe/Berlin
BEGIN:DAYLIGHT
TZOFFSETFROM:+0100
TZOFFSETTO:+0200
TZNAME:CEST
DTSTART:20240331T010000
END:DAYLIGHT
BEGIN:STANDARD
TZOFFSETFROM:+0200
TZOFFSETTO:+0100
TZNAME:CET
DTSTART:20241027T010000
END:STANDARD
END:VTIMEZONE
BEGIN:VEVENT
DTSTART;TZID=Europe/Berlin:20240327T183000
DTEND;TZID=Europe/Berlin:20240327T203000
DTSTAMP:20260422T105806
CREATED:20240320T105040Z
LAST-MODIFIED:20240320T105040Z
UID:10021487-1711564200-1711571400@blog.osgyan.de
SUMMARY:Umbau statt Neubau - Umnutzungen am Beispiel des Baudenkmals Kaufhof in Nürnberg
DESCRIPTION:
URL:https://blog.osgyan.de/event/umbau-statt-neubau-umnutzungen-am-beispiel-des-baudenkmals-kaufhof-in-nuernberg/
END:VEVENT
END:VCALENDAR