BEGIN:VCALENDAR
VERSION:2.0
PRODID:-//Verena Osgyan, MdL - ECPv6.9.0//NONSGML v1.0//EN
CALSCALE:GREGORIAN
METHOD:PUBLISH
X-ORIGINAL-URL:https://blog.osgyan.de
X-WR-CALDESC:Veranstaltungen für Verena Osgyan, MdL
REFRESH-INTERVAL;VALUE=DURATION:PT1H
X-Robots-Tag:noindex
X-PUBLISHED-TTL:PT1H
BEGIN:VTIMEZONE
TZID:Europe/Berlin
BEGIN:DAYLIGHT
TZOFFSETFROM:+0100
TZOFFSETTO:+0200
TZNAME:CEST
DTSTART:20240331T010000
END:DAYLIGHT
BEGIN:STANDARD
TZOFFSETFROM:+0200
TZOFFSETTO:+0100
TZNAME:CET
DTSTART:20241027T010000
END:STANDARD
END:VTIMEZONE
BEGIN:VEVENT
DTSTART;TZID=Europe/Berlin:20240318T090000
DTEND;TZID=Europe/Berlin:20240318T110000
DTSTAMP:20260424T104550
CREATED:20240228T143823Z
LAST-MODIFIED:20240228T143823Z
UID:10020603-1710752400-1710759600@blog.osgyan.de
SUMMARY:Besuch der Berufliche Schule 9 der Stadt Nürnberg
DESCRIPTION:
URL:https://blog.osgyan.de/event/besuch-der-berufliche-schule-9-der-stadt-nuernberg/
END:VEVENT
BEGIN:VEVENT
DTSTART;TZID=Europe/Berlin:20240318T133000
DTEND;TZID=Europe/Berlin:20240318T160000
DTSTAMP:20260424T104550
CREATED:20240228T143925Z
LAST-MODIFIED:20240228T143925Z
UID:10020604-1710768600-1710777600@blog.osgyan.de
SUMMARY:Sitzung des Fraktionsvorstands
DESCRIPTION:
URL:https://blog.osgyan.de/event/sitzung-des-fraktionsvorstands-11/
END:VEVENT
END:VCALENDAR