BEGIN:VCALENDAR
VERSION:2.0
PRODID:-//Verena Osgyan, MdL - ECPv6.9.0//NONSGML v1.0//EN
CALSCALE:GREGORIAN
METHOD:PUBLISH
X-WR-CALNAME:Verena Osgyan, MdL
X-ORIGINAL-URL:https://blog.osgyan.de
X-WR-CALDESC:Veranstaltungen für Verena Osgyan, MdL
REFRESH-INTERVAL;VALUE=DURATION:PT1H
X-Robots-Tag:noindex
X-PUBLISHED-TTL:PT1H
BEGIN:VTIMEZONE
TZID:Europe/Berlin
BEGIN:DAYLIGHT
TZOFFSETFROM:+0100
TZOFFSETTO:+0200
TZNAME:CEST
DTSTART:20240331T010000
END:DAYLIGHT
BEGIN:STANDARD
TZOFFSETFROM:+0200
TZOFFSETTO:+0100
TZNAME:CET
DTSTART:20241027T010000
END:STANDARD
END:VTIMEZONE
BEGIN:VEVENT
DTSTART;TZID=Europe/Berlin:20240316T100000
DTEND;TZID=Europe/Berlin:20240316T160000
DTSTAMP:20260420T171507
CREATED:20240228T143138Z
LAST-MODIFIED:20240228T143138Z
UID:10020599-1710583200-1710604800@blog.osgyan.de
SUMMARY:Grünes Neumitgliedertreffen Mittelfranken
DESCRIPTION:
URL:https://blog.osgyan.de/event/gruenes-neumitgliedertreffen-mittelfranken/
END:VEVENT
BEGIN:VEVENT
DTSTART;TZID=Europe/Berlin:20240316T170000
DTEND;TZID=Europe/Berlin:20240316T200000
DTSTAMP:20260420T171507
CREATED:20240228T143247Z
LAST-MODIFIED:20240228T143301Z
UID:10020600-1710608400-1710619200@blog.osgyan.de
SUMMARY:Jahresempfang Kreisverband Grüne Fürth
DESCRIPTION:
URL:https://blog.osgyan.de/event/jahresempfang-kreisverband-gruene-fuerth/
END:VEVENT
BEGIN:VEVENT
DTSTART;TZID=Europe/Berlin:20240316T210000
DTEND;TZID=Europe/Berlin:20240316T223000
DTSTAMP:20260420T171507
CREATED:20240228T143414Z
LAST-MODIFIED:20240228T143414Z
UID:10020601-1710622800-1710628200@blog.osgyan.de
SUMMARY:Preisverleihung 28. Filmfestival Türkei-Deutschland
DESCRIPTION:
URL:https://blog.osgyan.de/event/preisverleihung-28-filmfestival-tuerkei-deutschland/
END:VEVENT
END:VCALENDAR