BEGIN:VCALENDAR
VERSION:2.0
PRODID:-//Verena Osgyan, MdL - ECPv6.9.0//NONSGML v1.0//EN
CALSCALE:GREGORIAN
METHOD:PUBLISH
X-WR-CALNAME:Verena Osgyan, MdL
X-ORIGINAL-URL:https://blog.osgyan.de
X-WR-CALDESC:Veranstaltungen für Verena Osgyan, MdL
REFRESH-INTERVAL;VALUE=DURATION:PT1H
X-Robots-Tag:noindex
X-PUBLISHED-TTL:PT1H
BEGIN:VTIMEZONE
TZID:Europe/Berlin
BEGIN:DAYLIGHT
TZOFFSETFROM:+0100
TZOFFSETTO:+0200
TZNAME:CEST
DTSTART:20240331T010000
END:DAYLIGHT
BEGIN:STANDARD
TZOFFSETFROM:+0200
TZOFFSETTO:+0100
TZNAME:CET
DTSTART:20241027T010000
END:STANDARD
END:VTIMEZONE
BEGIN:VEVENT
DTSTART;TZID=Europe/Berlin:20240227T130000
DTEND;TZID=Europe/Berlin:20240227T140000
DTSTAMP:20260420T152612
CREATED:20240215T105300Z
LAST-MODIFIED:20240215T105300Z
UID:10021455-1709038800-1709042400@blog.osgyan.de
SUMMARY:Fraktionssitzung
DESCRIPTION:
URL:https://blog.osgyan.de/event/fraktionssitzung-264/
END:VEVENT
BEGIN:VEVENT
DTSTART;TZID=Europe/Berlin:20240227T140000
DTEND;TZID=Europe/Berlin:20240227T220000
DTSTAMP:20260420T152612
CREATED:20240215T105351Z
LAST-MODIFIED:20240215T105351Z
UID:10021456-1709042400-1709071200@blog.osgyan.de
SUMMARY:Plenarsitzung
DESCRIPTION:
URL:https://blog.osgyan.de/event/plenarsitzung-9/
END:VEVENT
END:VCALENDAR