BEGIN:VCALENDAR
VERSION:2.0
PRODID:-//Verena Osgyan, MdL - ECPv6.9.0//NONSGML v1.0//EN
CALSCALE:GREGORIAN
METHOD:PUBLISH
X-WR-CALNAME:Verena Osgyan, MdL
X-ORIGINAL-URL:http://blog.osgyan.de
X-WR-CALDESC:Veranstaltungen für Verena Osgyan, MdL
REFRESH-INTERVAL;VALUE=DURATION:PT1H
X-Robots-Tag:noindex
X-PUBLISHED-TTL:PT1H
BEGIN:VTIMEZONE
TZID:Europe/Berlin
BEGIN:DAYLIGHT
TZOFFSETFROM:+0100
TZOFFSETTO:+0200
TZNAME:CEST
DTSTART:20170326T010000
END:DAYLIGHT
BEGIN:STANDARD
TZOFFSETFROM:+0200
TZOFFSETTO:+0100
TZNAME:CET
DTSTART:20171029T010000
END:STANDARD
END:VTIMEZONE
BEGIN:VEVENT
DTSTART;TZID=Europe/Berlin:20170331T180000
DTEND;TZID=Europe/Berlin:20170331T210000
DTSTAMP:20260421T155059
CREATED:20170320T113150Z
LAST-MODIFIED:20170320T113150Z
UID:10019797-1490983200-1490994000@blog.osgyan.de
SUMMARY:Früjahrsempfang Bündnis90/Die Grünen KV Nürnberg Land
DESCRIPTION:
URL:http://blog.osgyan.de/event/fruejahrsempfang-buendnis90die-gruenen-kv-nuernberg-land/
LOCATION:Schwarzenbruck
END:VEVENT
END:VCALENDAR