BEGIN:VCALENDAR
VERSION:2.0
PRODID:-//Verena Osgyan, MdL - ECPv6.9.0//NONSGML v1.0//EN
CALSCALE:GREGORIAN
METHOD:PUBLISH
X-WR-CALNAME:Verena Osgyan, MdL
X-ORIGINAL-URL:http://blog.osgyan.de
X-WR-CALDESC:Veranstaltungen für Verena Osgyan, MdL
REFRESH-INTERVAL;VALUE=DURATION:PT1H
X-Robots-Tag:noindex
X-PUBLISHED-TTL:PT1H
BEGIN:VTIMEZONE
TZID:Europe/Berlin
BEGIN:DAYLIGHT
TZOFFSETFROM:+0100
TZOFFSETTO:+0200
TZNAME:CEST
DTSTART:20160327T010000
END:DAYLIGHT
BEGIN:STANDARD
TZOFFSETFROM:+0200
TZOFFSETTO:+0100
TZNAME:CET
DTSTART:20161030T010000
END:STANDARD
END:VTIMEZONE
BEGIN:VEVENT
DTSTART;TZID=Europe/Berlin:20160617T100000
DTEND;TZID=Europe/Berlin:20160617T113000
DTSTAMP:20260421T162523
CREATED:20160610T123459Z
LAST-MODIFIED:20160610T123507Z
UID:10019286-1466157600-1466163000@blog.osgyan.de
SUMMARY:Austausch mit Nürnberger Kindertheater
DESCRIPTION:
URL:http://blog.osgyan.de/event/austausch-mit-nuernberger-kindertheater/
LOCATION:Grünes Büro\, Passau
GEO:48.5667364;13.4319466
X-APPLE-STRUCTURED-LOCATION;VALUE=URI;X-ADDRESS=Grünes Büro Passau;X-APPLE-RADIUS=500;X-TITLE=Passau:geo:13.4319466,48.5667364
END:VEVENT
BEGIN:VEVENT
DTSTART;TZID=Europe/Berlin:20160610T140000
DTEND;TZID=Europe/Berlin:20160610T160000
DTSTAMP:20260421T162523
CREATED:20160610T121731Z
LAST-MODIFIED:20160610T121731Z
UID:10019264-1465567200-1465574400@blog.osgyan.de
SUMMARY:LAG Hochschule\, Forschung und Technik
DESCRIPTION:
URL:http://blog.osgyan.de/event/lag-hochschule-forschung-und-technik/
LOCATION:Grünes Büro\, Passau
GEO:48.5667364;13.4319466
X-APPLE-STRUCTURED-LOCATION;VALUE=URI;X-ADDRESS=Grünes Büro Passau;X-APPLE-RADIUS=500;X-TITLE=Passau:geo:13.4319466,48.5667364
END:VEVENT
END:VCALENDAR