BEGIN:VCALENDAR
VERSION:2.0
PRODID:-//Verena Osgyan, MdL - ECPv6.9.0//NONSGML v1.0//EN
CALSCALE:GREGORIAN
METHOD:PUBLISH
X-WR-CALNAME:Verena Osgyan, MdL
X-ORIGINAL-URL:http://blog.osgyan.de
X-WR-CALDESC:Veranstaltungen für Verena Osgyan, MdL
REFRESH-INTERVAL;VALUE=DURATION:PT1H
X-Robots-Tag:noindex
X-PUBLISHED-TTL:PT1H
BEGIN:VTIMEZONE
TZID:Europe/Berlin
BEGIN:DAYLIGHT
TZOFFSETFROM:+0100
TZOFFSETTO:+0200
TZNAME:CEST
DTSTART:20160327T010000
END:DAYLIGHT
BEGIN:STANDARD
TZOFFSETFROM:+0200
TZOFFSETTO:+0100
TZNAME:CET
DTSTART:20161030T010000
END:STANDARD
END:VTIMEZONE
BEGIN:VEVENT
DTSTART;TZID=Europe/Berlin:20160105T193000
DTEND;TZID=Europe/Berlin:20160105T213000
DTSTAMP:20260420T123052
CREATED:20151209T113452Z
LAST-MODIFIED:20160102T130123Z
UID:10019023-1452022200-1452029400@blog.osgyan.de
SUMMARY:Café Grün\, "StUB - Chance für die Region"
DESCRIPTION:
URL:http://blog.osgyan.de/event/cafe-gruen-lesecafe-anstaendig-essen/
LOCATION:Erlangen
END:VEVENT
END:VCALENDAR