BEGIN:VCALENDAR
VERSION:2.0
PRODID:-//Verena Osgyan, MdL - ECPv6.9.0//NONSGML v1.0//EN
CALSCALE:GREGORIAN
METHOD:PUBLISH
X-ORIGINAL-URL:http://blog.osgyan.de
X-WR-CALDESC:Veranstaltungen für Verena Osgyan, MdL
REFRESH-INTERVAL;VALUE=DURATION:PT1H
X-Robots-Tag:noindex
X-PUBLISHED-TTL:PT1H
BEGIN:VTIMEZONE
TZID:Europe/Berlin
BEGIN:DAYLIGHT
TZOFFSETFROM:+0100
TZOFFSETTO:+0200
TZNAME:CEST
DTSTART:20170326T010000
END:DAYLIGHT
BEGIN:STANDARD
TZOFFSETFROM:+0200
TZOFFSETTO:+0100
TZNAME:CET
DTSTART:20171029T010000
END:STANDARD
END:VTIMEZONE
BEGIN:VEVENT
DTSTART;TZID=Europe/Berlin:20170326T180000
DTEND;TZID=Europe/Berlin:20170326T220000
DTSTAMP:20260419T162314
CREATED:20170320T112623Z
LAST-MODIFIED:20170320T112623Z
UID:10019794-1490551200-1490565600@blog.osgyan.de
SUMMARY:Eröffnungsgottesdienst + Empfang der Landessynode
DESCRIPTION:
URL:http://blog.osgyan.de/event/eroeffnungsgottesdienst-empfang-der-landessynode/
LOCATION:Coburg
END:VEVENT
BEGIN:VEVENT
DTSTART;VALUE=DATE:20170326
DTEND;VALUE=DATE:20170331
DTSTAMP:20260419T162314
CREATED:20170216T094611Z
LAST-MODIFIED:20170216T094611Z
UID:10019786-1490486400-1490918399@blog.osgyan.de
SUMMARY:Landessynode
DESCRIPTION:
URL:http://blog.osgyan.de/event/landessynode-2/
LOCATION:Coburg
END:VEVENT
END:VCALENDAR