BEGIN:VCALENDAR
VERSION:2.0
PRODID:-//Verena Osgyan, MdL - ECPv6.9.0//NONSGML v1.0//EN
CALSCALE:GREGORIAN
METHOD:PUBLISH
X-ORIGINAL-URL:http://blog.osgyan.de
X-WR-CALDESC:Veranstaltungen für Verena Osgyan, MdL
REFRESH-INTERVAL;VALUE=DURATION:PT1H
X-Robots-Tag:noindex
X-PUBLISHED-TTL:PT1H
BEGIN:VTIMEZONE
TZID:Europe/Berlin
BEGIN:DAYLIGHT
TZOFFSETFROM:+0100
TZOFFSETTO:+0200
TZNAME:CEST
DTSTART:20140330T010000
END:DAYLIGHT
BEGIN:STANDARD
TZOFFSETFROM:+0200
TZOFFSETTO:+0100
TZNAME:CET
DTSTART:20141026T010000
END:STANDARD
END:VTIMEZONE
BEGIN:VEVENT
DTSTART;TZID=Europe/Berlin:20140711T140000
DTEND;TZID=Europe/Berlin:20140711T160000
DTSTAMP:20260424T142604
CREATED:20140624T114243Z
LAST-MODIFIED:20140624T114243Z
UID:10018702-1405087200-1405094400@blog.osgyan.de
SUMMARY:"der Senat auf AEG" - Informationsveranstaltung
DESCRIPTION:der TH Nürnberg Ohm-Hochschule
URL:http://blog.osgyan.de/event/der-senat-auf-aeg-informationsveranstaltung/
LOCATION:Auf AEG\, Gebäude 16\, Raum FORUM\, zweites OG.\, Eingang von der Fürther Straße 250\, Nürnberg
GEO:49.4603952;11.0283467
X-APPLE-STRUCTURED-LOCATION;VALUE=URI;X-ADDRESS=Auf AEG Gebäude 16 Raum FORUM zweites OG. Eingang von der Fürther Straße 250 Nürnberg;X-APPLE-RADIUS=500;X-TITLE=Eingang von der Fürther Straße 250:geo:11.0283467,49.4603952
END:VEVENT
END:VCALENDAR